BEGIN:VCALENDAR
VERSION:2.0
PRODID:-//Hesperia Parks &amp; Recreation - ECPv6.15.20//NONSGML v1.0//EN
CALSCALE:GREGORIAN
METHOD:PUBLISH
X-ORIGINAL-URL:https://hesperiaparks.gov
X-WR-CALDESC:Events for Hesperia Parks &amp; Recreation
REFRESH-INTERVAL;VALUE=DURATION:PT1H
X-Robots-Tag:noindex
X-PUBLISHED-TTL:PT1H
BEGIN:VTIMEZONE
TZID:America/Los_Angeles
BEGIN:DAYLIGHT
TZOFFSETFROM:-0800
TZOFFSETTO:-0700
TZNAME:PDT
DTSTART:20250309T100000
END:DAYLIGHT
BEGIN:STANDARD
TZOFFSETFROM:-0700
TZOFFSETTO:-0800
TZNAME:PST
DTSTART:20251102T090000
END:STANDARD
BEGIN:DAYLIGHT
TZOFFSETFROM:-0800
TZOFFSETTO:-0700
TZNAME:PDT
DTSTART:20260308T100000
END:DAYLIGHT
BEGIN:STANDARD
TZOFFSETFROM:-0700
TZOFFSETTO:-0800
TZNAME:PST
DTSTART:20261101T090000
END:STANDARD
BEGIN:DAYLIGHT
TZOFFSETFROM:-0800
TZOFFSETTO:-0700
TZNAME:PDT
DTSTART:20270314T100000
END:DAYLIGHT
BEGIN:STANDARD
TZOFFSETFROM:-0700
TZOFFSETTO:-0800
TZNAME:PST
DTSTART:20271107T090000
END:STANDARD
END:VTIMEZONE
BEGIN:VTIMEZONE
TZID:America/Denver
BEGIN:DAYLIGHT
TZOFFSETFROM:-0700
TZOFFSETTO:-0600
TZNAME:MDT
DTSTART:20250309T090000
END:DAYLIGHT
BEGIN:STANDARD
TZOFFSETFROM:-0600
TZOFFSETTO:-0700
TZNAME:MST
DTSTART:20251102T080000
END:STANDARD
BEGIN:DAYLIGHT
TZOFFSETFROM:-0700
TZOFFSETTO:-0600
TZNAME:MDT
DTSTART:20260308T090000
END:DAYLIGHT
BEGIN:STANDARD
TZOFFSETFROM:-0600
TZOFFSETTO:-0700
TZNAME:MST
DTSTART:20261101T080000
END:STANDARD
BEGIN:DAYLIGHT
TZOFFSETFROM:-0700
TZOFFSETTO:-0600
TZNAME:MDT
DTSTART:20270314T090000
END:DAYLIGHT
BEGIN:STANDARD
TZOFFSETFROM:-0600
TZOFFSETTO:-0700
TZNAME:MST
DTSTART:20271107T080000
END:STANDARD
END:VTIMEZONE
BEGIN:VEVENT
DTSTART;VALUE=DATE:20260221
DTEND;VALUE=DATE:20260728
DTSTAMP:20260421T104347
CREATED:20260127T224933Z
LAST-MODIFIED:20260213T191018Z
UID:10003837-1771632000-1785196799@hesperiaparks.gov
SUMMARY:HYFL Hesperia Trojans - Registration OPEN
DESCRIPTION:Football sign-ups are happening February 21st. \nEarly bird pricing available that day only\, on February 21st!\n📍 Location coming soon \nFor more information visit their Website or their Instagram. \n 
URL:https://hesperiaparks.gov/events-posts/hyfl-hesperia-trojans-registration-open/
LOCATION:CA
CATEGORIES:Registration
ATTACH;FMTTYPE=image/png:https://hesperiaparks.gov/wp-content/uploads/2026/01/HYFL-2026.png
END:VEVENT
BEGIN:VEVENT
DTSTART;VALUE=DATE:20260302
DTEND;VALUE=DATE:20260707
DTSTAMP:20260421T104347
CREATED:20260126T225739Z
LAST-MODIFIED:20260213T184047Z
UID:10003833-1772409600-1783382399@hesperiaparks.gov
SUMMARY:AYSO Spring Soccer - In Season
DESCRIPTION:Hesperia AYSO fosters a soccer community devoted to the positive development of youth soccer players. Our main goal is to create complete soccer players\, with love for the game\, good sportsmanship\, sound fitness values\, respect for themselves and others. \nHesperia Heat AYSO Region 878\n13312 Ranchero Rd\, #18-59 Oak Hills\, California 92344 \nhttps://www.hesperiaayso.org/\nhttps://www.facebook.com/HesperiaAYSO
URL:https://hesperiaparks.gov/events-posts/ayso-spring-soccer-season-opens/
LOCATION:Maple Park\, 7770 Maple Ave.\, Hesperia\, CA\, 92345\, United States
CATEGORIES:In Season
ATTACH;FMTTYPE=image/jpeg:https://hesperiaparks.gov/wp-content/uploads/2023/12/Maple-Park.jpg
ORGANIZER;CN="Hesperia AYSO Region 878":MAILTO:commissioner@hesperiaayso.org
END:VEVENT
BEGIN:VEVENT
DTSTART;TZID=America/Los_Angeles:20260624T100000
DTEND;TZID=America/Los_Angeles:20260624T110000
DTSTAMP:20260421T104347
CREATED:20260227T220037Z
LAST-MODIFIED:20260227T220037Z
UID:10004732-1782295200-1782298800@hesperiaparks.gov
SUMMARY:Tai Chi
DESCRIPTION:Improve Your Balance & Health with FREE Tai Chi Classes! \n\n\n\nLooking for a gentle way to boost your wellness? Join the San Bernardino County Department of Public Health for a free Tai Chi for Arthritis and Fall Prevention series!\nThis program is perfect for adults of all fitness levels—whether you’re managing arthritis or just want to improve your strength and stability through slow\, mindful movement.\n\n\n\n When: Wednesdays\, March 11th – April 29th\, 2026\n Time: 10:00 a.m. – 11:00 a.m.\n Where: Percy Bakker Community Center (9333 “E” Avenue\, Hesperia)\n Registration: In-person only\n\n\n\nCome see how gentle movement can make a big difference!
URL:https://hesperiaparks.gov/events-posts/tai-chi/2026-06-24/
LOCATION:Percy Bakker Center\, 9333 E Avenue\, Hesperia\, CA\, 92345\, United States
CATEGORIES:Classes
ATTACH;FMTTYPE=image/png:https://hesperiaparks.gov/wp-content/uploads/2026/02/Tai-Chi-flyer-2026.png
END:VEVENT
BEGIN:VEVENT
DTSTART;TZID=America/Denver:20260624T180000
DTEND;TZID=America/Denver:20260624T200000
DTSTAMP:20260421T104347
CREATED:20241211T205755Z
LAST-MODIFIED:20251121T200331Z
UID:10001554-1782324000-1782331200@hesperiaparks.gov
SUMMARY:Board of Directors Regular Meeting
DESCRIPTION:Regular meeting of the Board of Directors.
URL:https://hesperiaparks.gov/events-posts/board-of-directors-regular-meeting-14/2026-06-24/
LOCATION:Lime Street Park and Community Center\, 16292 Lime Street\, Hesperia\, CA\, 92345\, United States
CATEGORIES:Meeting
ATTACH;FMTTYPE=image/png:https://hesperiaparks.gov/wp-content/uploads/2024/05/Small.png
ORGANIZER;CN="Hesperia Recreation and Park District":MAILTO:info@hesperiaparks.com
END:VEVENT
END:VCALENDAR