BEGIN:VCALENDAR
VERSION:2.0
PRODID:-//Hesperia Parks &amp; Recreation - ECPv6.15.20//NONSGML v1.0//EN
CALSCALE:GREGORIAN
METHOD:PUBLISH
X-WR-CALNAME:Hesperia Parks &amp; Recreation
X-ORIGINAL-URL:https://hesperiaparks.gov
X-WR-CALDESC:Events for Hesperia Parks &amp; Recreation
REFRESH-INTERVAL;VALUE=DURATION:PT1H
X-Robots-Tag:noindex
X-PUBLISHED-TTL:PT1H
BEGIN:VTIMEZONE
TZID:America/Los_Angeles
BEGIN:DAYLIGHT
TZOFFSETFROM:-0800
TZOFFSETTO:-0700
TZNAME:PDT
DTSTART:20250309T100000
END:DAYLIGHT
BEGIN:STANDARD
TZOFFSETFROM:-0700
TZOFFSETTO:-0800
TZNAME:PST
DTSTART:20251102T090000
END:STANDARD
BEGIN:DAYLIGHT
TZOFFSETFROM:-0800
TZOFFSETTO:-0700
TZNAME:PDT
DTSTART:20260308T100000
END:DAYLIGHT
BEGIN:STANDARD
TZOFFSETFROM:-0700
TZOFFSETTO:-0800
TZNAME:PST
DTSTART:20261101T090000
END:STANDARD
BEGIN:DAYLIGHT
TZOFFSETFROM:-0800
TZOFFSETTO:-0700
TZNAME:PDT
DTSTART:20270314T100000
END:DAYLIGHT
BEGIN:STANDARD
TZOFFSETFROM:-0700
TZOFFSETTO:-0800
TZNAME:PST
DTSTART:20271107T090000
END:STANDARD
END:VTIMEZONE
BEGIN:VEVENT
DTSTART;TZID=America/Los_Angeles:20260219T170000
DTEND;TZID=America/Los_Angeles:20260219T190000
DTSTAMP:20260419T083536
CREATED:20260120T194458Z
LAST-MODIFIED:20260120T194458Z
UID:10002374-1771520400-1771527600@hesperiaparks.gov
SUMMARY:February Intergenerational Dinner
DESCRIPTION:💖 Hesperia Recreation and Park District’s Valentine’s Intergenerational Dinner 💖 \nJoin us for an evening of love\, laughter\, and connection across generations! \n📅 February 19\, 2026\n⏰ 5:00–7:00 PM\n🍽️ Dinner: 5:30 PM\n🍰 Dessert: 6:00 PM\n📍 Percy Bakker Community Center\n9333 “E” Avenue\, Hesperia \nBring your family\, friends\, and neighbors for a heartwarming Valentine’s celebration filled with good food and great company. 💕 \nReminder: Must participate in the activity to receive a complimentary meal. (while supplies last)
URL:https://hesperiaparks.gov/events-posts/february-intergenerational-dinner-2/
LOCATION:Percy Bakker Center\, 9333 E Avenue\, Hesperia\, CA\, 92345\, United States
CATEGORIES:Event
ATTACH;FMTTYPE=image/png:https://hesperiaparks.gov/wp-content/uploads/2026/01/February-2026.png
ORGANIZER;CN="Hesperia Recreation and Park District":MAILTO:info@hesperiaparks.com
END:VEVENT
BEGIN:VEVENT
DTSTART;TZID=America/Los_Angeles:20260221T100000
DTEND;TZID=America/Los_Angeles:20260221T140000
DTSTAMP:20260419T083536
CREATED:20260223T165136Z
LAST-MODIFIED:20260223T165136Z
UID:10004390-1771668000-1771682400@hesperiaparks.gov
SUMMARY:Hesperia Farmers Market
DESCRIPTION:🗓️Saturdays 10-2pm\n🤝Bringing Communities Together\n🌵 Local since 2021\n📍Hesperia Civic Plaza Park\n🌿Tag  #hesperiafarmersmarket \nFor more Information visit Instagram.
URL:https://hesperiaparks.gov/events-posts/hesperia-farmers-market/2026-02-21/
LOCATION:Hesperia Civic Plaza Park\, 15833 Smoke Tree St.\, Hesperia\, CA\, United States
CATEGORIES:Event
ATTACH;FMTTYPE=image/jpeg:https://hesperiaparks.gov/wp-content/uploads/2026/02/Hesperia-Farmers-Market.jpg
END:VEVENT
END:VCALENDAR