BEGIN:VCALENDAR
VERSION:2.0
PRODID:-//Hesperia Parks &amp; Recreation - ECPv6.15.20//NONSGML v1.0//EN
CALSCALE:GREGORIAN
METHOD:PUBLISH
X-ORIGINAL-URL:https://hesperiaparks.gov
X-WR-CALDESC:Events for Hesperia Parks &amp; Recreation
REFRESH-INTERVAL;VALUE=DURATION:PT1H
X-Robots-Tag:noindex
X-PUBLISHED-TTL:PT1H
BEGIN:VTIMEZONE
TZID:America/Los_Angeles
BEGIN:DAYLIGHT
TZOFFSETFROM:-0800
TZOFFSETTO:-0700
TZNAME:PDT
DTSTART:20250309T100000
END:DAYLIGHT
BEGIN:STANDARD
TZOFFSETFROM:-0700
TZOFFSETTO:-0800
TZNAME:PST
DTSTART:20251102T090000
END:STANDARD
BEGIN:DAYLIGHT
TZOFFSETFROM:-0800
TZOFFSETTO:-0700
TZNAME:PDT
DTSTART:20260308T100000
END:DAYLIGHT
BEGIN:STANDARD
TZOFFSETFROM:-0700
TZOFFSETTO:-0800
TZNAME:PST
DTSTART:20261101T090000
END:STANDARD
BEGIN:DAYLIGHT
TZOFFSETFROM:-0800
TZOFFSETTO:-0700
TZNAME:PDT
DTSTART:20270314T100000
END:DAYLIGHT
BEGIN:STANDARD
TZOFFSETFROM:-0700
TZOFFSETTO:-0800
TZNAME:PST
DTSTART:20271107T090000
END:STANDARD
END:VTIMEZONE
BEGIN:VEVENT
DTSTART;TZID=America/Los_Angeles:20260307T080000
DTEND;TZID=America/Los_Angeles:20260307T170000
DTSTAMP:20260421T052406
CREATED:20260202T233612Z
LAST-MODIFIED:20260223T194455Z
UID:10003841-1772870400-1772902800@hesperiaparks.gov
SUMMARY:Hesperia National Little League - Opening Day
DESCRIPTION:Opening Day\nMarch 7th\, 2026\nCeremony Starts at 9am\nGet ready to celebrate with Hesperia National Little League (HNLL)\, as they kick off the Spring 2026 season with a BANG! Come cheer on the teams as they dash around the bases! \nVisit \nHesperia National Little League
URL:https://hesperiaparks.gov/events-posts/hesperia-national-opening-day/
LOCATION:CA
CATEGORIES:Event
ATTACH;FMTTYPE=image/png:https://hesperiaparks.gov/wp-content/uploads/2026/02/HNLL-Opening-day.png
ORGANIZER;CN="Hesperia National Little League":MAILTO:hnll@lintner-family.com
END:VEVENT
BEGIN:VEVENT
DTSTART;TZID=America/Los_Angeles:20260307T100000
DTEND;TZID=America/Los_Angeles:20260307T140000
DTSTAMP:20260421T052406
CREATED:20260223T165136Z
LAST-MODIFIED:20260223T165136Z
UID:10004392-1772877600-1772892000@hesperiaparks.gov
SUMMARY:Hesperia Farmers Market
DESCRIPTION:🗓️Saturdays 10-2pm\n🤝Bringing Communities Together\n🌵 Local since 2021\n📍Hesperia Civic Plaza Park\n🌿Tag  #hesperiafarmersmarket \nFor more Information visit Instagram.
URL:https://hesperiaparks.gov/events-posts/hesperia-farmers-market/2026-03-07/
LOCATION:Hesperia Civic Plaza Park\, 15833 Smoke Tree St.\, Hesperia\, CA\, United States
CATEGORIES:Event
ATTACH;FMTTYPE=image/jpeg:https://hesperiaparks.gov/wp-content/uploads/2026/02/Hesperia-Farmers-Market.jpg
END:VEVENT
END:VCALENDAR