BEGIN:VCALENDAR
VERSION:2.0
PRODID:-//Hesperia Parks &amp; Recreation - ECPv6.15.20//NONSGML v1.0//EN
CALSCALE:GREGORIAN
METHOD:PUBLISH
X-ORIGINAL-URL:https://hesperiaparks.gov
X-WR-CALDESC:Events for Hesperia Parks &amp; Recreation
REFRESH-INTERVAL;VALUE=DURATION:PT1H
X-Robots-Tag:noindex
X-PUBLISHED-TTL:PT1H
BEGIN:VTIMEZONE
TZID:America/Denver
BEGIN:DAYLIGHT
TZOFFSETFROM:-0700
TZOFFSETTO:-0600
TZNAME:MDT
DTSTART:20250309T090000
END:DAYLIGHT
BEGIN:STANDARD
TZOFFSETFROM:-0600
TZOFFSETTO:-0700
TZNAME:MST
DTSTART:20251102T080000
END:STANDARD
BEGIN:DAYLIGHT
TZOFFSETFROM:-0700
TZOFFSETTO:-0600
TZNAME:MDT
DTSTART:20260308T090000
END:DAYLIGHT
BEGIN:STANDARD
TZOFFSETFROM:-0600
TZOFFSETTO:-0700
TZNAME:MST
DTSTART:20261101T080000
END:STANDARD
BEGIN:DAYLIGHT
TZOFFSETFROM:-0700
TZOFFSETTO:-0600
TZNAME:MDT
DTSTART:20270314T090000
END:DAYLIGHT
BEGIN:STANDARD
TZOFFSETFROM:-0600
TZOFFSETTO:-0700
TZNAME:MST
DTSTART:20271107T080000
END:STANDARD
END:VTIMEZONE
BEGIN:VTIMEZONE
TZID:America/Los_Angeles
BEGIN:DAYLIGHT
TZOFFSETFROM:-0800
TZOFFSETTO:-0700
TZNAME:PDT
DTSTART:20250309T100000
END:DAYLIGHT
BEGIN:STANDARD
TZOFFSETFROM:-0700
TZOFFSETTO:-0800
TZNAME:PST
DTSTART:20251102T090000
END:STANDARD
BEGIN:DAYLIGHT
TZOFFSETFROM:-0800
TZOFFSETTO:-0700
TZNAME:PDT
DTSTART:20260308T100000
END:DAYLIGHT
BEGIN:STANDARD
TZOFFSETFROM:-0700
TZOFFSETTO:-0800
TZNAME:PST
DTSTART:20261101T090000
END:STANDARD
BEGIN:DAYLIGHT
TZOFFSETFROM:-0800
TZOFFSETTO:-0700
TZNAME:PDT
DTSTART:20270314T100000
END:DAYLIGHT
BEGIN:STANDARD
TZOFFSETFROM:-0700
TZOFFSETTO:-0800
TZNAME:PST
DTSTART:20271107T090000
END:STANDARD
END:VTIMEZONE
BEGIN:VEVENT
DTSTART;TZID=America/Denver:20260326T170000
DTEND;TZID=America/Denver:20260326T173000
DTSTAMP:20260419T100616
CREATED:20260226T171835Z
LAST-MODIFIED:20260226T172035Z
UID:10002262-1774544400-1774546200@hesperiaparks.gov
SUMMARY:Event Committee Meeting
DESCRIPTION:Meeting for the Event Committee.
URL:https://hesperiaparks.gov/events-posts/event-committee-meeting-3-2-2-3/2026-03-26/
LOCATION:Lime Street Park and Community Center\, 16292 Lime Street\, Hesperia\, CA\, 92345\, United States
CATEGORIES:Event,Meeting
ATTACH;FMTTYPE=image/png:https://hesperiaparks.gov/wp-content/uploads/2024/05/Small.png
ORGANIZER;CN="Hesperia Recreation and Park District":MAILTO:info@hesperiaparks.com
END:VEVENT
BEGIN:VEVENT
DTSTART;TZID=America/Los_Angeles:20260328T100000
DTEND;TZID=America/Los_Angeles:20260328T140000
DTSTAMP:20260419T100616
CREATED:20260223T165136Z
LAST-MODIFIED:20260223T165136Z
UID:10004395-1774692000-1774706400@hesperiaparks.gov
SUMMARY:Hesperia Farmers Market
DESCRIPTION:🗓️Saturdays 10-2pm\n🤝Bringing Communities Together\n🌵 Local since 2021\n📍Hesperia Civic Plaza Park\n🌿Tag  #hesperiafarmersmarket \nFor more Information visit Instagram.
URL:https://hesperiaparks.gov/events-posts/hesperia-farmers-market/2026-03-28/
LOCATION:Hesperia Civic Plaza Park\, 15833 Smoke Tree St.\, Hesperia\, CA\, United States
CATEGORIES:Event
ATTACH;FMTTYPE=image/jpeg:https://hesperiaparks.gov/wp-content/uploads/2026/02/Hesperia-Farmers-Market.jpg
END:VEVENT
BEGIN:VEVENT
DTSTART;TZID=America/Los_Angeles:20260328T110000
DTEND;TZID=America/Los_Angeles:20260328T140000
DTSTAMP:20260419T100616
CREATED:20260126T210932Z
LAST-MODIFIED:20260126T211109Z
UID:10003828-1774695600-1774706400@hesperiaparks.gov
SUMMARY:ROD Eggxtra Special Egg Hunt
DESCRIPTION:Rock’n our Disabilites – 10th Annual Eggxtra Special Egg Hunt\nFor Families with special needs\nhttps://rocknourdisabilitiesfoundation.org/eggxtra-special-egg-trunk \n\n🌷🐰 You’re Invited to Our Special Easter Celebration! 🐰🌷 \nWe are so excited to welcome our amazing special needs families to a fun-filled Easter celebration made just for YOU! This is a day to relax\, laugh\, make memories\, and enjoy time together in a safe\, loving\, and inclusive environment. \nJoin us on:\n📅 Saturday\, March 28\n⏰ 11:00 AM to 2:00 PM \nWe have a wonderful afternoon planned with something for everyone to enjoy: \n🐰 Photos with the Easter Bunny\n🎯 Carnival Games\n🚂 Train Rides\n🎶 Special Performance by our Rock’n Rhythms Choir\n🚗 Easter-Themed Trunk or Treat\n💛 Smiles\, laughter\, and beautiful family memories \n🧺 Please remember to bring your Easter baskets or bags with you! \nThis event is all about bringing families together\, just like we’ve always done\, creating joyful traditions and giving our children and adults a place where they feel seen\, loved\, and celebrated.\nWe can’t wait to see our families\, our friends\, and all of our incredible kiddos enjoying a magical Easter day together.\nCome celebrate\, connect\, and make memories with us. Our community is strongest when we come together. 🌸🐣💐
URL:https://hesperiaparks.gov/events-posts/rod-eggxtra-special-egg-hunt/
LOCATION:Epicenter\, 17508 Hercules Street Building C\, Hesperia\, CA\, 92345\, United States
CATEGORIES:Event
ATTACH;FMTTYPE=image/png:https://hesperiaparks.gov/wp-content/uploads/2026/01/ROD-Eggxtra-Special-egg-hunt.png
ORGANIZER;CN="Rock'n Our Disabilities":MAILTO:rocknourdisabilities@gmail.com
END:VEVENT
END:VCALENDAR