BEGIN:VCALENDAR
VERSION:2.0
PRODID:-//Hesperia Parks &amp; Recreation - ECPv6.15.20//NONSGML v1.0//EN
CALSCALE:GREGORIAN
METHOD:PUBLISH
X-WR-CALNAME:Hesperia Parks &amp; Recreation
X-ORIGINAL-URL:https://hesperiaparks.gov
X-WR-CALDESC:Events for Hesperia Parks &amp; Recreation
REFRESH-INTERVAL;VALUE=DURATION:PT1H
X-Robots-Tag:noindex
X-PUBLISHED-TTL:PT1H
BEGIN:VTIMEZONE
TZID:America/Los_Angeles
BEGIN:DAYLIGHT
TZOFFSETFROM:-0800
TZOFFSETTO:-0700
TZNAME:PDT
DTSTART:20250309T100000
END:DAYLIGHT
BEGIN:STANDARD
TZOFFSETFROM:-0700
TZOFFSETTO:-0800
TZNAME:PST
DTSTART:20251102T090000
END:STANDARD
BEGIN:DAYLIGHT
TZOFFSETFROM:-0800
TZOFFSETTO:-0700
TZNAME:PDT
DTSTART:20260308T100000
END:DAYLIGHT
BEGIN:STANDARD
TZOFFSETFROM:-0700
TZOFFSETTO:-0800
TZNAME:PST
DTSTART:20261101T090000
END:STANDARD
BEGIN:DAYLIGHT
TZOFFSETFROM:-0800
TZOFFSETTO:-0700
TZNAME:PDT
DTSTART:20270314T100000
END:DAYLIGHT
BEGIN:STANDARD
TZOFFSETFROM:-0700
TZOFFSETTO:-0800
TZNAME:PST
DTSTART:20271107T090000
END:STANDARD
END:VTIMEZONE
BEGIN:VEVENT
DTSTART;VALUE=DATE:20260302
DTEND;VALUE=DATE:20260707
DTSTAMP:20260421T102433
CREATED:20260126T225739Z
LAST-MODIFIED:20260213T184047Z
UID:10003833-1772409600-1783382399@hesperiaparks.gov
SUMMARY:AYSO Spring Soccer - In Season
DESCRIPTION:Hesperia AYSO fosters a soccer community devoted to the positive development of youth soccer players. Our main goal is to create complete soccer players\, with love for the game\, good sportsmanship\, sound fitness values\, respect for themselves and others. \nHesperia Heat AYSO Region 878\n13312 Ranchero Rd\, #18-59 Oak Hills\, California 92344 \nhttps://www.hesperiaayso.org/\nhttps://www.facebook.com/HesperiaAYSO
URL:https://hesperiaparks.gov/events-posts/ayso-spring-soccer-season-opens/
LOCATION:Maple Park\, 7770 Maple Ave.\, Hesperia\, CA\, 92345\, United States
CATEGORIES:In Season
ATTACH;FMTTYPE=image/jpeg:https://hesperiaparks.gov/wp-content/uploads/2023/12/Maple-Park.jpg
ORGANIZER;CN="Hesperia AYSO Region 878":MAILTO:commissioner@hesperiaayso.org
END:VEVENT
BEGIN:VEVENT
DTSTART;TZID=America/Los_Angeles:20260307T080000
DTEND;TZID=America/Los_Angeles:20260531T170000
DTSTAMP:20260421T102433
CREATED:20260325T224644Z
LAST-MODIFIED:20260326T155633Z
UID:10004780-1772870400-1780246800@hesperiaparks.gov
SUMMARY:HNLL - In Season
DESCRIPTION:Hespera National Little League is In Season. Fall season registrations open in June. \nHesperia has two Little League programs. Both programs offer youth baseball and softball divisions that provide a structured environment for children ages 4-16 to learn and play the game\, emphasizing sportsmanship\, teamwork\, and life-lessons through competition. They aim to develop skills\, build character\, and provide a fun\, engaging experience for all players regardless of ability level.\n\nPlease click below to see which league based on your location.\n\nHesperia National Little League\nHesperia American Little League
URL:https://hesperiaparks.gov/events-posts/hnll-in-season/
LOCATION:Hesperia Community Park\, 10200 Datura Road\, Hesperia\, CA\, 92345\, United States
CATEGORIES:In Season
ATTACH;FMTTYPE=image/jpeg:https://hesperiaparks.gov/wp-content/uploads/2026/03/CTWE0207.jpg
ORGANIZER;CN="Hesperia National Little League":MAILTO:hnll@lintner-family.com
END:VEVENT
BEGIN:VEVENT
DTSTART;TZID=America/Los_Angeles:20260314T080000
DTEND;TZID=America/Los_Angeles:20260531T170000
DTSTAMP:20260421T102433
CREATED:20260325T190231Z
LAST-MODIFIED:20260325T190231Z
UID:10004779-1773475200-1780246800@hesperiaparks.gov
SUMMARY:HALL - In Season
DESCRIPTION:Hesperia American Little league is currently In Season for Spring. Fall Season registration will begin in June.\n\nHesperia has two Little League programs. Both programs offer youth baseball and softball divisions that provide a structured environment for children ages 4-16 to learn and play the game\, emphasizing sportsmanship\, teamwork\, and life-lessons through competition. They aim to develop skills\, build character\, and provide a fun\, engaging experience for all players regardless of ability level.\n\nPlease click below to see which league\, based on your location.\nHesperia American Little League\nHesperia National Little League
URL:https://hesperiaparks.gov/events-posts/hall-in-season/
LOCATION:Lime Street Park and Community Center\, 16292 Lime Street\, Hesperia\, CA\, 92345\, United States
CATEGORIES:In Season
ATTACH;FMTTYPE=image/jpeg:https://hesperiaparks.gov/wp-content/uploads/2026/03/ODFC3768.jpg
ORGANIZER;CN="Hesperia American Little League":MAILTO:hesperiaamericanlittleleague@gmail.com
END:VEVENT
BEGIN:VEVENT
DTSTART;VALUE=DATE:20260323
DTEND;VALUE=DATE:20260423
DTSTAMP:20260421T102433
CREATED:20260126T223136Z
LAST-MODIFIED:20260202T232813Z
UID:10003832-1774224000-1776902399@hesperiaparks.gov
SUMMARY:Spring Pickleball League- In Season
DESCRIPTION:Get ready to smash\, dink\, and volley your way to glory! The Hesperia Pickleball League is back and better than ever. \nDon’t just watch from the sidelines—join the action! We have divisions for Beginners\, Intermediate\, and Advanced players.
URL:https://hesperiaparks.gov/events-posts/spring-pickleball-league-season-begins/
LOCATION:Power Play Center\, 10770 I Ave\, Hesperia\, CA\, 92345\, United States
CATEGORIES:In Season
ATTACH;FMTTYPE=image/jpeg:https://hesperiaparks.gov/wp-content/uploads/2026/01/020.jpg
ORGANIZER;CN="Hesperia Recreation and Park District":MAILTO:info@hesperiaparks.com
END:VEVENT
BEGIN:VEVENT
DTSTART;VALUE=DATE:20260407
DTEND;VALUE=DATE:20260528
DTSTAMP:20260421T102433
CREATED:20260213T183640Z
LAST-MODIFIED:20260213T183640Z
UID:10003855-1775520000-1779926399@hesperiaparks.gov
SUMMARY:2026 Spring Adult Softball - In Season
DESCRIPTION:Spring is in the air\, and it’s time to play ball! \nHesperia’s Adult Softball League – where the hits are big and the fun is bigger! \n\n\n LEAGUE GAMES: Mens (Tues)\, Coed (Weds)\n SEASON: April 7th – May 27th\n PRICE: $400/team (Ages 18+)\nNo team? No problem! You can Register as a single player and make new friends (and rivals!) at Hesperia Community Park.\n\n\nRegistrations closed after March 6\, 2026.
URL:https://hesperiaparks.gov/events-posts/2026-spring-adult-softball-in-season/
LOCATION:Hesperia Community Park\, 10200 Datura Road\, Hesperia\, CA\, 92345\, United States
CATEGORIES:In Season
ATTACH;FMTTYPE=image/png:https://hesperiaparks.gov/wp-content/uploads/2026/01/spring.png
END:VEVENT
BEGIN:VEVENT
DTSTART;VALUE=DATE:20260420
DTEND;VALUE=DATE:20260615
DTSTAMP:20260421T102433
CREATED:20260331T205007Z
LAST-MODIFIED:20260331T225227Z
UID:10004787-1776643200-1781481599@hesperiaparks.gov
SUMMARY:Spring Girls Volleyball - In Season
DESCRIPTION:Ages: 9 to 17 years; MUST turn League age BY the start of the season. \nLocated at the Rick Novack Community Center\, 13558 Palm St.\, Hesperia. \n\nSpring 2026 Repigistration CLOSED\, Season Starts April 20th\nRegistration\n\nResidents : $110\nNon-Residents: $120\n\n\n\nThere are 3 age groups: \n\n9-11 years old\n12-13 years old\n14-17 years old\n\nFall Girls Volleyball Registration Opens on June 1st\, 2026.
URL:https://hesperiaparks.gov/events-posts/spring-girls-volleyball-in-season/
LOCATION:Rick Novack Center\, 13558 Palm Street\, Hesperia\, CA\, 92345\, United States
CATEGORIES:In Season
ATTACH;FMTTYPE=image/jpeg:https://hesperiaparks.gov/wp-content/uploads/2026/03/178-scaled.jpg
ORGANIZER;CN="Hesperia Recreation and Park District":MAILTO:info@hesperiaparks.com
END:VEVENT
BEGIN:VEVENT
DTSTART;VALUE=DATE:20260727
DTEND;VALUE=DATE:20261213
DTSTAMP:20260421T102433
CREATED:20260213T191734Z
LAST-MODIFIED:20260213T191734Z
UID:10003856-1785110400-1797119999@hesperiaparks.gov
SUMMARY:HYFL Hesperia Trojans - In Season
DESCRIPTION:
URL:https://hesperiaparks.gov/events-posts/hyfl-hesperia-trojans-in-season/
LOCATION:CA
CATEGORIES:In Season
ATTACH;FMTTYPE=image/png:https://hesperiaparks.gov/wp-content/uploads/2026/02/Screenshot-2026-02-13-111647.png
END:VEVENT
END:VCALENDAR