BEGIN:VCALENDAR
VERSION:2.0
PRODID:-//Hesperia Parks &amp; Recreation - ECPv6.15.20//NONSGML v1.0//EN
CALSCALE:GREGORIAN
METHOD:PUBLISH
X-ORIGINAL-URL:https://hesperiaparks.gov
X-WR-CALDESC:Events for Hesperia Parks &amp; Recreation
REFRESH-INTERVAL;VALUE=DURATION:PT1H
X-Robots-Tag:noindex
X-PUBLISHED-TTL:PT1H
BEGIN:VTIMEZONE
TZID:UTC
BEGIN:STANDARD
TZOFFSETFROM:+0000
TZOFFSETTO:+0000
TZNAME:UTC
DTSTART:20250101T000000
END:STANDARD
END:VTIMEZONE
BEGIN:VTIMEZONE
TZID:America/Denver
BEGIN:DAYLIGHT
TZOFFSETFROM:-0700
TZOFFSETTO:-0600
TZNAME:MDT
DTSTART:20250309T090000
END:DAYLIGHT
BEGIN:STANDARD
TZOFFSETFROM:-0600
TZOFFSETTO:-0700
TZNAME:MST
DTSTART:20251102T080000
END:STANDARD
BEGIN:DAYLIGHT
TZOFFSETFROM:-0700
TZOFFSETTO:-0600
TZNAME:MDT
DTSTART:20260308T090000
END:DAYLIGHT
BEGIN:STANDARD
TZOFFSETFROM:-0600
TZOFFSETTO:-0700
TZNAME:MST
DTSTART:20261101T080000
END:STANDARD
BEGIN:DAYLIGHT
TZOFFSETFROM:-0700
TZOFFSETTO:-0600
TZNAME:MDT
DTSTART:20270314T090000
END:DAYLIGHT
BEGIN:STANDARD
TZOFFSETFROM:-0600
TZOFFSETTO:-0700
TZNAME:MST
DTSTART:20271107T080000
END:STANDARD
END:VTIMEZONE
BEGIN:VTIMEZONE
TZID:America/Los_Angeles
BEGIN:DAYLIGHT
TZOFFSETFROM:-0800
TZOFFSETTO:-0700
TZNAME:PDT
DTSTART:20250309T100000
END:DAYLIGHT
BEGIN:STANDARD
TZOFFSETFROM:-0700
TZOFFSETTO:-0800
TZNAME:PST
DTSTART:20251102T090000
END:STANDARD
BEGIN:DAYLIGHT
TZOFFSETFROM:-0800
TZOFFSETTO:-0700
TZNAME:PDT
DTSTART:20260308T100000
END:DAYLIGHT
BEGIN:STANDARD
TZOFFSETFROM:-0700
TZOFFSETTO:-0800
TZNAME:PST
DTSTART:20261101T090000
END:STANDARD
BEGIN:DAYLIGHT
TZOFFSETFROM:-0800
TZOFFSETTO:-0700
TZNAME:PDT
DTSTART:20270314T100000
END:DAYLIGHT
BEGIN:STANDARD
TZOFFSETFROM:-0700
TZOFFSETTO:-0800
TZNAME:PST
DTSTART:20271107T090000
END:STANDARD
END:VTIMEZONE
BEGIN:VEVENT
DTSTART;TZID=UTC:20260610T180000
DTEND;TZID=UTC:20260610T200000
DTSTAMP:20260425T150103
CREATED:20240522T014446Z
LAST-MODIFIED:20260331T192031Z
UID:10003770-1781114400-1781121600@hesperiaparks.gov
SUMMARY:Board of Directors Regular Meeting
DESCRIPTION:Regular meeting of the Board of Directors
URL:https://hesperiaparks.gov/events-posts/board-of-directors-regular-meeting-13/2026-06-10/
LOCATION:Lime Street Park and Community Center\, 16292 Lime Street\, Hesperia\, CA\, 92345\, United States
CATEGORIES:Meeting
ATTACH;FMTTYPE=image/png:https://hesperiaparks.gov/wp-content/uploads/2024/05/Small.png
ORGANIZER;CN="Hesperia Recreation and Park District":MAILTO:info@hesperiaparks.com
END:VEVENT
BEGIN:VEVENT
DTSTART;TZID=UTC:20260618T153000
DTEND;TZID=UTC:20260618T163000
DTSTAMP:20260425T150103
CREATED:20241211T204836Z
LAST-MODIFIED:20260319T175542Z
UID:10001375-1781796600-1781800200@hesperiaparks.gov
SUMMARY:Safety\, Security and Maintenance Committee Meeting
DESCRIPTION:Meeting of the Safety\, Security & Maintenance Committee.
URL:https://hesperiaparks.gov/events-posts/safety-security-and-maintenance-committee-meeting-2-2/2026-06-18/
LOCATION:Lime Street Park and Community Center\, 16292 Lime Street\, Hesperia\, CA\, 92345\, United States
CATEGORIES:Meeting
ATTACH;FMTTYPE=image/png:https://hesperiaparks.gov/wp-content/uploads/2024/05/Small.png
ORGANIZER;CN="Hesperia Recreation and Park District":MAILTO:info@hesperiaparks.com
END:VEVENT
BEGIN:VEVENT
DTSTART;TZID=UTC:20260618T170000
DTEND;TZID=UTC:20260618T180000
DTSTAMP:20260425T150103
CREATED:20241211T205022Z
LAST-MODIFIED:20260318T213211Z
UID:10001615-1781802000-1781805600@hesperiaparks.gov
SUMMARY:Recreation Committee Meeting
DESCRIPTION:Meeting for the Recreation Committee.
URL:https://hesperiaparks.gov/events-posts/recreation-committee-meeting-2-2/2026-06-18/
LOCATION:Lime Street Park and Community Center\, 16292 Lime Street\, Hesperia\, CA\, 92345\, United States
CATEGORIES:Meeting
ATTACH;FMTTYPE=image/png:https://hesperiaparks.gov/wp-content/uploads/2024/05/Small.png
ORGANIZER;CN="Hesperia Recreation and Park District":MAILTO:info@hesperiaparks.com
END:VEVENT
BEGIN:VEVENT
DTSTART;TZID=America/Denver:20260624T180000
DTEND;TZID=America/Denver:20260624T200000
DTSTAMP:20260425T150103
CREATED:20241211T205755Z
LAST-MODIFIED:20251121T200331Z
UID:10001554-1782324000-1782331200@hesperiaparks.gov
SUMMARY:Board of Directors Regular Meeting
DESCRIPTION:Regular meeting of the Board of Directors.
URL:https://hesperiaparks.gov/events-posts/board-of-directors-regular-meeting-14/2026-06-24/
LOCATION:Lime Street Park and Community Center\, 16292 Lime Street\, Hesperia\, CA\, 92345\, United States
CATEGORIES:Meeting
ATTACH;FMTTYPE=image/png:https://hesperiaparks.gov/wp-content/uploads/2024/05/Small.png
ORGANIZER;CN="Hesperia Recreation and Park District":MAILTO:info@hesperiaparks.com
END:VEVENT
BEGIN:VEVENT
DTSTART;TZID=America/Denver:20260625T170000
DTEND;TZID=America/Denver:20260625T173000
DTSTAMP:20260425T150103
CREATED:20260226T171651Z
LAST-MODIFIED:20260226T171736Z
UID:10002265-1782406800-1782408600@hesperiaparks.gov
SUMMARY:Event Committee Meeting
DESCRIPTION:Meeting for the Event Committee.
URL:https://hesperiaparks.gov/events-posts/event-committee-meeting-3-2-2-2/2026-06-25/
LOCATION:Lime Street Park and Community Center\, 16292 Lime Street\, Hesperia\, CA\, 92345\, United States
CATEGORIES:Event,Meeting
ATTACH;FMTTYPE=image/png:https://hesperiaparks.gov/wp-content/uploads/2024/05/Small.png
ORGANIZER;CN="Hesperia Recreation and Park District":MAILTO:info@hesperiaparks.com
END:VEVENT
BEGIN:VEVENT
DTSTART;TZID=America/Denver:20260625T170000
DTEND;TZID=America/Denver:20260625T173000
DTSTAMP:20260425T150103
CREATED:20260226T171835Z
LAST-MODIFIED:20260226T172035Z
UID:10004655-1782406800-1782408600@hesperiaparks.gov
SUMMARY:Event Committee Meeting
DESCRIPTION:Meeting for the Event Committee.
URL:https://hesperiaparks.gov/events-posts/event-committee-meeting-3-2-2-3/2026-06-25/
LOCATION:Lime Street Park and Community Center\, 16292 Lime Street\, Hesperia\, CA\, 92345\, United States
CATEGORIES:Event,Meeting
ATTACH;FMTTYPE=image/png:https://hesperiaparks.gov/wp-content/uploads/2024/05/Small.png
ORGANIZER;CN="Hesperia Recreation and Park District":MAILTO:info@hesperiaparks.com
END:VEVENT
BEGIN:VEVENT
DTSTART;TZID=America/Los_Angeles:20260625T173000
DTEND;TZID=America/Los_Angeles:20260625T193000
DTSTAMP:20260425T150103
CREATED:20241211T012758Z
LAST-MODIFIED:20260123T001741Z
UID:10002389-1782408600-1782415800@hesperiaparks.gov
SUMMARY:Hesperia Area Recreation District Foundation Meeting
DESCRIPTION:Meeting of the Hesperia Area Recreation District Foundation Meeting.
URL:https://hesperiaparks.gov/events-posts/hesperia-area-recreation-district-foundation-meeting-2-2-2/2026-06-25/
LOCATION:Lime Street Park and Community Center\, 16292 Lime Street\, Hesperia\, CA\, 92345\, United States
CATEGORIES:Meeting
ATTACH;FMTTYPE=image/png:https://hesperiaparks.gov/wp-content/uploads/2024/05/Small.png
ORGANIZER;CN="Hesperia Recreation and Park District":MAILTO:info@hesperiaparks.com
END:VEVENT
END:VCALENDAR