BEGIN:VCALENDAR
VERSION:2.0
PRODID:-//Hesperia Parks &amp; Recreation - ECPv6.15.20//NONSGML v1.0//EN
CALSCALE:GREGORIAN
METHOD:PUBLISH
X-WR-CALNAME:Hesperia Parks &amp; Recreation
X-ORIGINAL-URL:https://hesperiaparks.gov
X-WR-CALDESC:Events for Hesperia Parks &amp; Recreation
REFRESH-INTERVAL;VALUE=DURATION:PT1H
X-Robots-Tag:noindex
X-PUBLISHED-TTL:PT1H
BEGIN:VTIMEZONE
TZID:UTC
BEGIN:STANDARD
TZOFFSETFROM:+0000
TZOFFSETTO:+0000
TZNAME:UTC
DTSTART:20230101T000000
END:STANDARD
END:VTIMEZONE
BEGIN:VTIMEZONE
TZID:America/Denver
BEGIN:DAYLIGHT
TZOFFSETFROM:-0700
TZOFFSETTO:-0600
TZNAME:MDT
DTSTART:20230312T090000
END:DAYLIGHT
BEGIN:STANDARD
TZOFFSETFROM:-0600
TZOFFSETTO:-0700
TZNAME:MST
DTSTART:20231105T080000
END:STANDARD
BEGIN:DAYLIGHT
TZOFFSETFROM:-0700
TZOFFSETTO:-0600
TZNAME:MDT
DTSTART:20240310T090000
END:DAYLIGHT
BEGIN:STANDARD
TZOFFSETFROM:-0600
TZOFFSETTO:-0700
TZNAME:MST
DTSTART:20241103T080000
END:STANDARD
BEGIN:DAYLIGHT
TZOFFSETFROM:-0700
TZOFFSETTO:-0600
TZNAME:MDT
DTSTART:20250309T090000
END:DAYLIGHT
BEGIN:STANDARD
TZOFFSETFROM:-0600
TZOFFSETTO:-0700
TZNAME:MST
DTSTART:20251102T080000
END:STANDARD
END:VTIMEZONE
BEGIN:VEVENT
DTSTART;TZID=UTC:20240124T180000
DTEND;TZID=UTC:20240124T223000
DTSTAMP:20260421T084018
CREATED:20240123T043902Z
LAST-MODIFIED:20240221T070310Z
UID:10000008-1706119200-1706135400@hesperiaparks.gov
SUMMARY:Board Meeting 01/24/2024
DESCRIPTION:THE PUBLIC MAY PARTICIPATE VIA TELECONFERENCE\nPLEASE MUTE YOUR PHONE UNLESS YOU WISH TO SPEAK \nDIAL: +1 (646) 749-3122 \nACCESS CODE: 567-486-637
URL:https://hesperiaparks.gov/events-posts/general-board-meeting/
LOCATION:Lime Street Park and Community Center\, 16292 Lime Street\, Hesperia\, CA\, 92345\, United States
CATEGORIES:Meeting
ATTACH;FMTTYPE=image/jpeg:https://hesperiaparks.gov/wp-content/uploads/2024/01/big-HRPD_Calendar_Board.jpg
END:VEVENT
BEGIN:VEVENT
DTSTART;TZID=UTC:20240125T170000
DTEND;TZID=UTC:20240125T180000
DTSTAMP:20260421T084018
CREATED:20240124T050653Z
LAST-MODIFIED:20240221T070116Z
UID:10000337-1706202000-1706205600@hesperiaparks.gov
SUMMARY:Event Committee Meeting
DESCRIPTION:
URL:https://hesperiaparks.gov/events-posts/event-committee-meeting/
LOCATION:CA
CATEGORIES:Meeting
END:VEVENT
BEGIN:VEVENT
DTSTART;TZID=UTC:20240125T180000
DTEND;TZID=UTC:20240125T223000
DTSTAMP:20260421T084018
CREATED:20240124T045212Z
LAST-MODIFIED:20240221T072823Z
UID:10000009-1706205600-1706221800@hesperiaparks.gov
SUMMARY:HARD Foundation Board Meeting 01/25/2024
DESCRIPTION:
URL:https://hesperiaparks.gov/events-posts/hard-foundation-board-meeting-2/
LOCATION:Lime Street Park and Community Center\, 16292 Lime Street\, Hesperia\, CA\, 92345\, United States
CATEGORIES:Meeting
ATTACH;FMTTYPE=image/jpeg:https://hesperiaparks.gov/wp-content/uploads/2024/01/big-HRPD_Calendar_Board.jpg
END:VEVENT
BEGIN:VEVENT
DTSTART;TZID=UTC:20240501T153000
DTEND;TZID=UTC:20240501T163000
DTSTAMP:20260421T084018
CREATED:20240502T013228Z
LAST-MODIFIED:20240502T013228Z
UID:10000654-1714577400-1714581000@hesperiaparks.gov
SUMMARY:Policy Review Committee
DESCRIPTION:Policy Review Committee Meeting.
URL:https://hesperiaparks.gov/events-posts/policy-review-committee/
LOCATION:Lime Street Park and Community Center\, 16292 Lime Street\, Hesperia\, CA\, 92345\, United States
CATEGORIES:Meeting
ATTACH;FMTTYPE=image/png:https://hesperiaparks.gov/wp-content/uploads/2024/05/Small.png
ORGANIZER;CN="Hesperia Recreation and Park District":MAILTO:info@hesperiaparks.com
END:VEVENT
BEGIN:VEVENT
DTSTART;TZID=UTC:20240508T180000
DTEND;TZID=UTC:20240508T200000
DTSTAMP:20260421T084018
CREATED:20240502T013442Z
LAST-MODIFIED:20240504T043659Z
UID:10000655-1715191200-1715198400@hesperiaparks.gov
SUMMARY:Regular Board of Directors Meeting
DESCRIPTION:Meeting of the Board of Directors. Meetings are 2nd and 4th Wednesdays of the month.
URL:https://hesperiaparks.gov/events-posts/regular-board-of-directors-meeting/
LOCATION:Lime Street Park and Community Center\, 16292 Lime Street\, Hesperia\, CA\, 92345\, United States
CATEGORIES:Meeting
ATTACH;FMTTYPE=image/png:https://hesperiaparks.gov/wp-content/uploads/2024/05/Small.png
ORGANIZER;CN="Hesperia Recreation and Park District":MAILTO:info@hesperiaparks.com
END:VEVENT
BEGIN:VEVENT
DTSTART;TZID=UTC:20240515T153000
DTEND;TZID=UTC:20240515T163000
DTSTAMP:20260421T084018
CREATED:20240502T021035Z
LAST-MODIFIED:20240502T021424Z
UID:10000656-1715787000-1715790600@hesperiaparks.gov
SUMMARY:Tri Agency Meeting
DESCRIPTION:City of Hesperia\, HUSD and HRPD for the Tri Agency Meeting at Hesperia City Hall. City Managers Conference Room 2nd Floor
URL:https://hesperiaparks.gov/events-posts/tri-agency-meeting/
LOCATION:Hesperia City Hall\, 9700 Seventh Ave\, Hesperia\, CA\, 92345\, United States
CATEGORIES:Meeting
ATTACH;FMTTYPE=image/png:https://hesperiaparks.gov/wp-content/uploads/2024/05/Small.png
ORGANIZER;CN="Hesperia Recreation and Park District":MAILTO:info@hesperiaparks.com
END:VEVENT
BEGIN:VEVENT
DTSTART;TZID=UTC:20240516T153000
DTEND;TZID=UTC:20240516T163000
DTSTAMP:20260421T084018
CREATED:20240502T021829Z
LAST-MODIFIED:20260218T222638Z
UID:10000657-1715873400-1715877000@hesperiaparks.gov
SUMMARY:Safety\, Security and Maintenance Committee Meeting
DESCRIPTION:Meeting of the Safety\, Security & Maintenance Committee.
URL:https://hesperiaparks.gov/events-posts/safety-security-and-maintenance-committee-meeting/2024-05-16/
LOCATION:Lime Street Park and Community Center\, 16292 Lime Street\, Hesperia\, CA\, 92345\, United States
CATEGORIES:Meeting
ATTACH;FMTTYPE=image/png:https://hesperiaparks.gov/wp-content/uploads/2024/05/Small.png
ORGANIZER;CN="Hesperia Recreation and Park District":MAILTO:info@hesperiaparks.com
END:VEVENT
BEGIN:VEVENT
DTSTART;TZID=UTC:20240516T174500
DTEND;TZID=UTC:20240516T184500
DTSTAMP:20260421T084018
CREATED:20240502T022058Z
LAST-MODIFIED:20240522T021127Z
UID:10000658-1715881500-1715885100@hesperiaparks.gov
SUMMARY:Recreation Committee Meeting
DESCRIPTION:Meeting for the Recreation Committee.
URL:https://hesperiaparks.gov/events-posts/recreation-committee-meeting/2024-05-16/
LOCATION:Lime Street Park and Community Center\, 16292 Lime Street\, Hesperia\, CA\, 92345\, United States
CATEGORIES:Meeting
ATTACH;FMTTYPE=image/png:https://hesperiaparks.gov/wp-content/uploads/2024/05/Small.png
ORGANIZER;CN="Hesperia Recreation and Park District":MAILTO:info@hesperiaparks.com
END:VEVENT
BEGIN:VEVENT
DTSTART;TZID=UTC:20240523T180000
DTEND;TZID=UTC:20240523T200000
DTSTAMP:20260421T084018
CREATED:20240522T014845Z
LAST-MODIFIED:20240522T014845Z
UID:10000675-1716487200-1716494400@hesperiaparks.gov
SUMMARY:Hesperia Area Recreation District Foundation Meeting
DESCRIPTION:Meeting of the Hesperia Area Recreation District Foundation Meeting.
URL:https://hesperiaparks.gov/events-posts/hesperia-area-recreation-district-foundation-meeting-2/2024-05-23/
LOCATION:Lime Street Park and Community Center\, 16292 Lime Street\, Hesperia\, CA\, 92345\, United States
CATEGORIES:Meeting
ATTACH;FMTTYPE=image/png:https://hesperiaparks.gov/wp-content/uploads/2024/05/Small.png
ORGANIZER;CN="Hesperia Recreation and Park District":MAILTO:info@hesperiaparks.com
END:VEVENT
BEGIN:VEVENT
DTSTART;TZID=UTC:20240523T180000
DTEND;TZID=UTC:20240523T200000
DTSTAMP:20260421T084018
CREATED:20240502T023003Z
LAST-MODIFIED:20240507T225026Z
UID:10000660-1716487200-1716494400@hesperiaparks.gov
SUMMARY:Hesperia Area Recreation District Foundation Meeting
DESCRIPTION:Meeting of the Hesperia Area Recreation District Foundation Meeting.
URL:https://hesperiaparks.gov/events-posts/hesperia-area-recreation-district-foundation-meeting/
LOCATION:Lime Street Park and Community Center\, 16292 Lime Street\, Hesperia\, CA\, 92345\, United States
CATEGORIES:Meeting
ATTACH;FMTTYPE=image/png:https://hesperiaparks.gov/wp-content/uploads/2024/05/Small.png
ORGANIZER;CN="Hesperia Recreation and Park District":MAILTO:info@hesperiaparks.com
END:VEVENT
BEGIN:VEVENT
DTSTART;TZID=UTC:20240529T180000
DTEND;TZID=UTC:20240529T200000
DTSTAMP:20260421T084018
CREATED:20240502T023219Z
LAST-MODIFIED:20240502T023219Z
UID:10000661-1717005600-1717012800@hesperiaparks.gov
SUMMARY:Board of Directors Meeting
DESCRIPTION:Meeting of the Board of Directors.
URL:https://hesperiaparks.gov/events-posts/board-of-directors-meeting/
LOCATION:Lime Street Park and Community Center\, 16292 Lime Street\, Hesperia\, CA\, 92345\, United States
CATEGORIES:Meeting
ATTACH;FMTTYPE=image/png:https://hesperiaparks.gov/wp-content/uploads/2024/05/Small.png
ORGANIZER;CN="Hesperia Recreation and Park District":MAILTO:info@hesperiaparks.com
END:VEVENT
BEGIN:VEVENT
DTSTART;TZID=UTC:20240612T180000
DTEND;TZID=UTC:20240612T200000
DTSTAMP:20260421T084018
CREATED:20240522T012853Z
LAST-MODIFIED:20240522T012853Z
UID:10000662-1718215200-1718222400@hesperiaparks.gov
SUMMARY:Board of Directors Regular Meeting
DESCRIPTION:Regular meeting of the Board of Directors
URL:https://hesperiaparks.gov/events-posts/board-of-directors-regular-meeting/
LOCATION:Lime Street Park and Community Center\, 16292 Lime Street\, Hesperia\, CA\, 92345\, United States
CATEGORIES:Event,Meeting
ATTACH;FMTTYPE=image/png:https://hesperiaparks.gov/wp-content/uploads/2024/05/Small.png
ORGANIZER;CN="Hesperia Recreation and Park District":MAILTO:info@hesperiaparks.com
END:VEVENT
BEGIN:VEVENT
DTSTART;TZID=UTC:20240620T153000
DTEND;TZID=UTC:20240620T163000
DTSTAMP:20260421T084018
CREATED:20240502T021829Z
LAST-MODIFIED:20260218T222638Z
UID:10000733-1718897400-1718901000@hesperiaparks.gov
SUMMARY:Safety\, Security and Maintenance Committee Meeting
DESCRIPTION:Meeting of the Safety\, Security & Maintenance Committee.
URL:https://hesperiaparks.gov/events-posts/safety-security-and-maintenance-committee-meeting/2024-06-20/
LOCATION:Lime Street Park and Community Center\, 16292 Lime Street\, Hesperia\, CA\, 92345\, United States
CATEGORIES:Meeting
ATTACH;FMTTYPE=image/png:https://hesperiaparks.gov/wp-content/uploads/2024/05/Small.png
ORGANIZER;CN="Hesperia Recreation and Park District":MAILTO:info@hesperiaparks.com
END:VEVENT
BEGIN:VEVENT
DTSTART;TZID=UTC:20240620T174500
DTEND;TZID=UTC:20240620T184500
DTSTAMP:20260421T084018
CREATED:20240502T022058Z
LAST-MODIFIED:20240522T021127Z
UID:10000714-1718905500-1718909100@hesperiaparks.gov
SUMMARY:Recreation Committee Meeting
DESCRIPTION:Meeting for the Recreation Committee.
URL:https://hesperiaparks.gov/events-posts/recreation-committee-meeting/2024-06-20/
LOCATION:Lime Street Park and Community Center\, 16292 Lime Street\, Hesperia\, CA\, 92345\, United States
CATEGORIES:Meeting
ATTACH;FMTTYPE=image/png:https://hesperiaparks.gov/wp-content/uploads/2024/05/Small.png
ORGANIZER;CN="Hesperia Recreation and Park District":MAILTO:info@hesperiaparks.com
END:VEVENT
BEGIN:VEVENT
DTSTART;TZID=UTC:20240626T180000
DTEND;TZID=UTC:20240626T200000
DTSTAMP:20260421T084018
CREATED:20240522T012935Z
LAST-MODIFIED:20240522T012935Z
UID:10000663-1719424800-1719432000@hesperiaparks.gov
SUMMARY:Board of Directors Regular Meeting
DESCRIPTION:Regular meeting of the Board of Directors
URL:https://hesperiaparks.gov/events-posts/board-of-directors-regular-meeting-2/
LOCATION:Lime Street Park and Community Center\, 16292 Lime Street\, Hesperia\, CA\, 92345\, United States
CATEGORIES:Event,Meeting
ATTACH;FMTTYPE=image/png:https://hesperiaparks.gov/wp-content/uploads/2024/05/Small.png
ORGANIZER;CN="Hesperia Recreation and Park District":MAILTO:info@hesperiaparks.com
END:VEVENT
BEGIN:VEVENT
DTSTART;TZID=UTC:20240627T180000
DTEND;TZID=UTC:20240627T200000
DTSTAMP:20260421T084018
CREATED:20240522T014845Z
LAST-MODIFIED:20240522T014845Z
UID:10000676-1719511200-1719518400@hesperiaparks.gov
SUMMARY:Hesperia Area Recreation District Foundation Meeting
DESCRIPTION:Meeting of the Hesperia Area Recreation District Foundation Meeting.
URL:https://hesperiaparks.gov/events-posts/hesperia-area-recreation-district-foundation-meeting-2/2024-06-27/
LOCATION:Lime Street Park and Community Center\, 16292 Lime Street\, Hesperia\, CA\, 92345\, United States
CATEGORIES:Meeting
ATTACH;FMTTYPE=image/png:https://hesperiaparks.gov/wp-content/uploads/2024/05/Small.png
ORGANIZER;CN="Hesperia Recreation and Park District":MAILTO:info@hesperiaparks.com
END:VEVENT
BEGIN:VEVENT
DTSTART;TZID=UTC:20240710T180000
DTEND;TZID=UTC:20240710T200000
DTSTAMP:20260421T084018
CREATED:20240522T013108Z
LAST-MODIFIED:20240522T013108Z
UID:10000665-1720634400-1720641600@hesperiaparks.gov
SUMMARY:Board of Directors Regular Meeting
DESCRIPTION:Regular meeting of the Board of Directors
URL:https://hesperiaparks.gov/events-posts/board-of-directors-regular-meeting-4/
LOCATION:Lime Street Park and Community Center\, 16292 Lime Street\, Hesperia\, CA\, 92345\, United States
CATEGORIES:Event,Meeting
ATTACH;FMTTYPE=image/png:https://hesperiaparks.gov/wp-content/uploads/2024/05/Small.png
ORGANIZER;CN="Hesperia Recreation and Park District":MAILTO:info@hesperiaparks.com
END:VEVENT
BEGIN:VEVENT
DTSTART;TZID=UTC:20240718T153000
DTEND;TZID=UTC:20240718T163000
DTSTAMP:20260421T084018
CREATED:20240502T021829Z
LAST-MODIFIED:20260218T222638Z
UID:10000734-1721316600-1721320200@hesperiaparks.gov
SUMMARY:Safety\, Security and Maintenance Committee Meeting
DESCRIPTION:Meeting of the Safety\, Security & Maintenance Committee.
URL:https://hesperiaparks.gov/events-posts/safety-security-and-maintenance-committee-meeting/2024-07-18/
LOCATION:Lime Street Park and Community Center\, 16292 Lime Street\, Hesperia\, CA\, 92345\, United States
CATEGORIES:Meeting
ATTACH;FMTTYPE=image/png:https://hesperiaparks.gov/wp-content/uploads/2024/05/Small.png
ORGANIZER;CN="Hesperia Recreation and Park District":MAILTO:info@hesperiaparks.com
END:VEVENT
BEGIN:VEVENT
DTSTART;TZID=UTC:20240718T174500
DTEND;TZID=UTC:20240718T184500
DTSTAMP:20260421T084018
CREATED:20240502T022058Z
LAST-MODIFIED:20240522T021127Z
UID:10000715-1721324700-1721328300@hesperiaparks.gov
SUMMARY:Recreation Committee Meeting
DESCRIPTION:Meeting for the Recreation Committee.
URL:https://hesperiaparks.gov/events-posts/recreation-committee-meeting/2024-07-18/
LOCATION:Lime Street Park and Community Center\, 16292 Lime Street\, Hesperia\, CA\, 92345\, United States
CATEGORIES:Meeting
ATTACH;FMTTYPE=image/png:https://hesperiaparks.gov/wp-content/uploads/2024/05/Small.png
ORGANIZER;CN="Hesperia Recreation and Park District":MAILTO:info@hesperiaparks.com
END:VEVENT
BEGIN:VEVENT
DTSTART;TZID=UTC:20240724T180000
DTEND;TZID=UTC:20240724T200000
DTSTAMP:20260421T084018
CREATED:20240522T013003Z
LAST-MODIFIED:20240522T013050Z
UID:10000664-1721844000-1721851200@hesperiaparks.gov
SUMMARY:Board of Directors Regular Meeting
DESCRIPTION:Regular meeting of the Board of Directors
URL:https://hesperiaparks.gov/events-posts/board-of-directors-regular-meeting-3/
LOCATION:Lime Street Park and Community Center\, 16292 Lime Street\, Hesperia\, CA\, 92345\, United States
CATEGORIES:Event,Meeting
ATTACH;FMTTYPE=image/png:https://hesperiaparks.gov/wp-content/uploads/2024/05/Small.png
ORGANIZER;CN="Hesperia Recreation and Park District":MAILTO:info@hesperiaparks.com
END:VEVENT
BEGIN:VEVENT
DTSTART;TZID=UTC:20240725T180000
DTEND;TZID=UTC:20240725T200000
DTSTAMP:20260421T084018
CREATED:20240522T014845Z
LAST-MODIFIED:20240522T014845Z
UID:10000677-1721930400-1721937600@hesperiaparks.gov
SUMMARY:Hesperia Area Recreation District Foundation Meeting
DESCRIPTION:Meeting of the Hesperia Area Recreation District Foundation Meeting.
URL:https://hesperiaparks.gov/events-posts/hesperia-area-recreation-district-foundation-meeting-2/2024-07-25/
LOCATION:Lime Street Park and Community Center\, 16292 Lime Street\, Hesperia\, CA\, 92345\, United States
CATEGORIES:Meeting
ATTACH;FMTTYPE=image/png:https://hesperiaparks.gov/wp-content/uploads/2024/05/Small.png
ORGANIZER;CN="Hesperia Recreation and Park District":MAILTO:info@hesperiaparks.com
END:VEVENT
BEGIN:VEVENT
DTSTART;TZID=UTC:20240814T180000
DTEND;TZID=UTC:20240814T200000
DTSTAMP:20260421T084018
CREATED:20240522T013142Z
LAST-MODIFIED:20240522T013142Z
UID:10000666-1723658400-1723665600@hesperiaparks.gov
SUMMARY:Board of Directors Regular Meeting
DESCRIPTION:Regular meeting of the Board of Directors
URL:https://hesperiaparks.gov/events-posts/board-of-directors-regular-meeting-5/
LOCATION:Lime Street Park and Community Center\, 16292 Lime Street\, Hesperia\, CA\, 92345\, United States
CATEGORIES:Event,Meeting
ATTACH;FMTTYPE=image/png:https://hesperiaparks.gov/wp-content/uploads/2024/05/Small.png
ORGANIZER;CN="Hesperia Recreation and Park District":MAILTO:info@hesperiaparks.com
END:VEVENT
BEGIN:VEVENT
DTSTART;TZID=UTC:20240815T153000
DTEND;TZID=UTC:20240815T163000
DTSTAMP:20260421T084018
CREATED:20240502T021829Z
LAST-MODIFIED:20260218T222638Z
UID:10000735-1723735800-1723739400@hesperiaparks.gov
SUMMARY:Safety\, Security and Maintenance Committee Meeting
DESCRIPTION:Meeting of the Safety\, Security & Maintenance Committee.
URL:https://hesperiaparks.gov/events-posts/safety-security-and-maintenance-committee-meeting/2024-08-15/
LOCATION:Lime Street Park and Community Center\, 16292 Lime Street\, Hesperia\, CA\, 92345\, United States
CATEGORIES:Meeting
ATTACH;FMTTYPE=image/png:https://hesperiaparks.gov/wp-content/uploads/2024/05/Small.png
ORGANIZER;CN="Hesperia Recreation and Park District":MAILTO:info@hesperiaparks.com
END:VEVENT
BEGIN:VEVENT
DTSTART;TZID=UTC:20240815T174500
DTEND;TZID=UTC:20240815T184500
DTSTAMP:20260421T084018
CREATED:20240502T022058Z
LAST-MODIFIED:20240522T021127Z
UID:10000716-1723743900-1723747500@hesperiaparks.gov
SUMMARY:Recreation Committee Meeting
DESCRIPTION:Meeting for the Recreation Committee.
URL:https://hesperiaparks.gov/events-posts/recreation-committee-meeting/2024-08-15/
LOCATION:Lime Street Park and Community Center\, 16292 Lime Street\, Hesperia\, CA\, 92345\, United States
CATEGORIES:Meeting
ATTACH;FMTTYPE=image/png:https://hesperiaparks.gov/wp-content/uploads/2024/05/Small.png
ORGANIZER;CN="Hesperia Recreation and Park District":MAILTO:info@hesperiaparks.com
END:VEVENT
BEGIN:VEVENT
DTSTART;TZID=UTC:20240822T180000
DTEND;TZID=UTC:20240822T200000
DTSTAMP:20260421T084018
CREATED:20240522T014845Z
LAST-MODIFIED:20240522T014845Z
UID:10000678-1724349600-1724356800@hesperiaparks.gov
SUMMARY:Hesperia Area Recreation District Foundation Meeting
DESCRIPTION:Meeting of the Hesperia Area Recreation District Foundation Meeting.
URL:https://hesperiaparks.gov/events-posts/hesperia-area-recreation-district-foundation-meeting-2/2024-08-22/
LOCATION:Lime Street Park and Community Center\, 16292 Lime Street\, Hesperia\, CA\, 92345\, United States
CATEGORIES:Meeting
ATTACH;FMTTYPE=image/png:https://hesperiaparks.gov/wp-content/uploads/2024/05/Small.png
ORGANIZER;CN="Hesperia Recreation and Park District":MAILTO:info@hesperiaparks.com
END:VEVENT
BEGIN:VEVENT
DTSTART;TZID=UTC:20240828T180000
DTEND;TZID=UTC:20240828T200000
DTSTAMP:20260421T084018
CREATED:20240522T013209Z
LAST-MODIFIED:20240522T013334Z
UID:10000667-1724868000-1724875200@hesperiaparks.gov
SUMMARY:Board of Directors Regular Meeting
DESCRIPTION:Regular meeting of the Board of Directors
URL:https://hesperiaparks.gov/events-posts/board-of-directors-regular-meeting-6/
LOCATION:Lime Street Park and Community Center\, 16292 Lime Street\, Hesperia\, CA\, 92345\, United States
CATEGORIES:Event,Meeting
ATTACH;FMTTYPE=image/png:https://hesperiaparks.gov/wp-content/uploads/2024/05/Small.png
ORGANIZER;CN="Hesperia Recreation and Park District":MAILTO:info@hesperiaparks.com
END:VEVENT
BEGIN:VEVENT
DTSTART;TZID=UTC:20240904T180000
DTEND;TZID=UTC:20240904T200000
DTSTAMP:20260421T084018
CREATED:20240522T013353Z
LAST-MODIFIED:20240905T015416Z
UID:10000668-1725472800-1725480000@hesperiaparks.gov
SUMMARY:Board of Directors Regular Meeting
DESCRIPTION:Regular meeting of the Board of Directors
URL:https://hesperiaparks.gov/events-posts/board-of-directors-regular-meeting-7/
LOCATION:Lime Street Park and Community Center\, 16292 Lime Street\, Hesperia\, CA\, 92345\, United States
CATEGORIES:Event,Meeting
ATTACH;FMTTYPE=image/png:https://hesperiaparks.gov/wp-content/uploads/2024/05/Small.png
ORGANIZER;CN="Hesperia Recreation and Park District":MAILTO:info@hesperiaparks.com
END:VEVENT
BEGIN:VEVENT
DTSTART;TZID=America/Denver:20240916T090000
DTEND;TZID=America/Denver:20240916T100000
DTSTAMP:20260421T084018
CREATED:20240913T234111Z
LAST-MODIFIED:20240913T234111Z
UID:10000850-1726477200-1726480800@hesperiaparks.gov
SUMMARY:Groundbreaking Solar Projects- Epicentre
DESCRIPTION:Hesperia Recreation and Park District is very excited about being able to start several of our new solar projects coming to multiple facilities. Please join us for the remaining groundbreaking ceremonies\, as we make our District Brighter\, at the following locations:\n• Epicentre: September 16\, 2024 – 9am-10am\n• Hesperia Community Park: September 30\, 2024 – 9am-10am\nWe are looking forward to the numerous prospects we can tackle due to the power of solar! We hope to see you all there
URL:https://hesperiaparks.gov/events-posts/groundbreaking-solar-projects-epicentre/
LOCATION:Epicenter\, 17508 Hercules Street Building C\, Hesperia\, CA\, 92345\, United States
CATEGORIES:Event,Meeting
ATTACH;FMTTYPE=image/png:https://hesperiaparks.gov/wp-content/uploads/2024/09/Groundbreaking-Solar-Projects-Invite.png
ORGANIZER;CN="Hesperia Recreation and Park District":MAILTO:info@hesperiaparks.com
END:VEVENT
BEGIN:VEVENT
DTSTART;TZID=UTC:20240919T153000
DTEND;TZID=UTC:20240919T163000
DTSTAMP:20260421T084018
CREATED:20240502T021829Z
LAST-MODIFIED:20260218T222638Z
UID:10000736-1726759800-1726763400@hesperiaparks.gov
SUMMARY:Safety\, Security and Maintenance Committee Meeting
DESCRIPTION:Meeting of the Safety\, Security & Maintenance Committee.
URL:https://hesperiaparks.gov/events-posts/safety-security-and-maintenance-committee-meeting/2024-09-19/
LOCATION:Lime Street Park and Community Center\, 16292 Lime Street\, Hesperia\, CA\, 92345\, United States
CATEGORIES:Meeting
ATTACH;FMTTYPE=image/png:https://hesperiaparks.gov/wp-content/uploads/2024/05/Small.png
ORGANIZER;CN="Hesperia Recreation and Park District":MAILTO:info@hesperiaparks.com
END:VEVENT
BEGIN:VEVENT
DTSTART;TZID=UTC:20240919T174500
DTEND;TZID=UTC:20240919T184500
DTSTAMP:20260421T084018
CREATED:20240502T022058Z
LAST-MODIFIED:20240522T021127Z
UID:10000717-1726767900-1726771500@hesperiaparks.gov
SUMMARY:Recreation Committee Meeting
DESCRIPTION:Meeting for the Recreation Committee.
URL:https://hesperiaparks.gov/events-posts/recreation-committee-meeting/2024-09-19/
LOCATION:Lime Street Park and Community Center\, 16292 Lime Street\, Hesperia\, CA\, 92345\, United States
CATEGORIES:Meeting
ATTACH;FMTTYPE=image/png:https://hesperiaparks.gov/wp-content/uploads/2024/05/Small.png
ORGANIZER;CN="Hesperia Recreation and Park District":MAILTO:info@hesperiaparks.com
END:VEVENT
END:VCALENDAR