BEGIN:VCALENDAR
VERSION:2.0
PRODID:-//Hesperia Parks &amp; Recreation - ECPv6.15.20//NONSGML v1.0//EN
CALSCALE:GREGORIAN
METHOD:PUBLISH
X-WR-CALNAME:Hesperia Parks &amp; Recreation
X-ORIGINAL-URL:https://hesperiaparks.gov
X-WR-CALDESC:Events for Hesperia Parks &amp; Recreation
REFRESH-INTERVAL;VALUE=DURATION:PT1H
X-Robots-Tag:noindex
X-PUBLISHED-TTL:PT1H
BEGIN:VTIMEZONE
TZID:America/Los_Angeles
BEGIN:DAYLIGHT
TZOFFSETFROM:-0800
TZOFFSETTO:-0700
TZNAME:PDT
DTSTART:20250309T100000
END:DAYLIGHT
BEGIN:STANDARD
TZOFFSETFROM:-0700
TZOFFSETTO:-0800
TZNAME:PST
DTSTART:20251102T090000
END:STANDARD
BEGIN:DAYLIGHT
TZOFFSETFROM:-0800
TZOFFSETTO:-0700
TZNAME:PDT
DTSTART:20260308T100000
END:DAYLIGHT
BEGIN:STANDARD
TZOFFSETFROM:-0700
TZOFFSETTO:-0800
TZNAME:PST
DTSTART:20261101T090000
END:STANDARD
BEGIN:DAYLIGHT
TZOFFSETFROM:-0800
TZOFFSETTO:-0700
TZNAME:PDT
DTSTART:20270314T100000
END:DAYLIGHT
BEGIN:STANDARD
TZOFFSETFROM:-0700
TZOFFSETTO:-0800
TZNAME:PST
DTSTART:20271107T090000
END:STANDARD
END:VTIMEZONE
BEGIN:VTIMEZONE
TZID:UTC
BEGIN:STANDARD
TZOFFSETFROM:+0000
TZOFFSETTO:+0000
TZNAME:UTC
DTSTART:20250101T000000
END:STANDARD
END:VTIMEZONE
BEGIN:VEVENT
DTSTART;TZID=America/Los_Angeles:20260415T180000
DTEND;TZID=America/Los_Angeles:20260415T200000
DTSTAMP:20260425T055502
CREATED:20260331T192844Z
LAST-MODIFIED:20260331T192844Z
UID:10004783-1776276000-1776283200@hesperiaparks.gov
SUMMARY:Board of Directors Regular Meeting
DESCRIPTION:Regular meeting of the Board of Directors. \nAgenda & Minutes
URL:https://hesperiaparks.gov/events-posts/board-of-directors-regular-meeting-17/
LOCATION:Lime Street Park and Community Center\, 16292 Lime Street\, Hesperia\, CA\, 92345\, United States
CATEGORIES:Meeting
ATTACH;FMTTYPE=image/png:https://hesperiaparks.gov/wp-content/uploads/2023/08/cropped-HRPD_Logo23_Final_v1.2_Day.png
ORGANIZER;CN="Hesperia Recreation and Park District":MAILTO:info@hesperiaparks.com
END:VEVENT
BEGIN:VEVENT
DTSTART;TZID=UTC:20260416T153000
DTEND;TZID=UTC:20260416T163000
DTSTAMP:20260425T055502
CREATED:20241211T204836Z
LAST-MODIFIED:20260319T175542Z
UID:10001373-1776353400-1776357000@hesperiaparks.gov
SUMMARY:Safety\, Security and Maintenance Committee Meeting
DESCRIPTION:Meeting of the Safety\, Security & Maintenance Committee.
URL:https://hesperiaparks.gov/events-posts/safety-security-and-maintenance-committee-meeting-2-2/2026-04-16/
LOCATION:Lime Street Park and Community Center\, 16292 Lime Street\, Hesperia\, CA\, 92345\, United States
CATEGORIES:Meeting
ATTACH;FMTTYPE=image/png:https://hesperiaparks.gov/wp-content/uploads/2024/05/Small.png
ORGANIZER;CN="Hesperia Recreation and Park District":MAILTO:info@hesperiaparks.com
END:VEVENT
BEGIN:VEVENT
DTSTART;TZID=UTC:20260416T170000
DTEND;TZID=UTC:20260416T180000
DTSTAMP:20260425T055502
CREATED:20241211T205022Z
LAST-MODIFIED:20260318T213211Z
UID:10001613-1776358800-1776362400@hesperiaparks.gov
SUMMARY:Recreation Committee Meeting
DESCRIPTION:Meeting for the Recreation Committee.
URL:https://hesperiaparks.gov/events-posts/recreation-committee-meeting-2-2/2026-04-16/
LOCATION:Lime Street Park and Community Center\, 16292 Lime Street\, Hesperia\, CA\, 92345\, United States
CATEGORIES:Meeting
ATTACH;FMTTYPE=image/png:https://hesperiaparks.gov/wp-content/uploads/2024/05/Small.png
ORGANIZER;CN="Hesperia Recreation and Park District":MAILTO:info@hesperiaparks.com
END:VEVENT
END:VCALENDAR