BEGIN:VCALENDAR
VERSION:2.0
PRODID:-//Hesperia Parks &amp; Recreation - ECPv6.15.20//NONSGML v1.0//EN
CALSCALE:GREGORIAN
METHOD:PUBLISH
X-WR-CALNAME:Hesperia Parks &amp; Recreation
X-ORIGINAL-URL:https://hesperiaparks.gov
X-WR-CALDESC:Events for Hesperia Parks &amp; Recreation
REFRESH-INTERVAL;VALUE=DURATION:PT1H
X-Robots-Tag:noindex
X-PUBLISHED-TTL:PT1H
BEGIN:VTIMEZONE
TZID:America/Los_Angeles
BEGIN:DAYLIGHT
TZOFFSETFROM:-0800
TZOFFSETTO:-0700
TZNAME:PDT
DTSTART:20250309T100000
END:DAYLIGHT
BEGIN:STANDARD
TZOFFSETFROM:-0700
TZOFFSETTO:-0800
TZNAME:PST
DTSTART:20251102T090000
END:STANDARD
BEGIN:DAYLIGHT
TZOFFSETFROM:-0800
TZOFFSETTO:-0700
TZNAME:PDT
DTSTART:20260308T100000
END:DAYLIGHT
BEGIN:STANDARD
TZOFFSETFROM:-0700
TZOFFSETTO:-0800
TZNAME:PST
DTSTART:20261101T090000
END:STANDARD
BEGIN:DAYLIGHT
TZOFFSETFROM:-0800
TZOFFSETTO:-0700
TZNAME:PDT
DTSTART:20270314T100000
END:DAYLIGHT
BEGIN:STANDARD
TZOFFSETFROM:-0700
TZOFFSETTO:-0800
TZNAME:PST
DTSTART:20271107T090000
END:STANDARD
END:VTIMEZONE
BEGIN:VTIMEZONE
TZID:America/Denver
BEGIN:DAYLIGHT
TZOFFSETFROM:-0700
TZOFFSETTO:-0600
TZNAME:MDT
DTSTART:20250309T090000
END:DAYLIGHT
BEGIN:STANDARD
TZOFFSETFROM:-0600
TZOFFSETTO:-0700
TZNAME:MST
DTSTART:20251102T080000
END:STANDARD
BEGIN:DAYLIGHT
TZOFFSETFROM:-0700
TZOFFSETTO:-0600
TZNAME:MDT
DTSTART:20260308T090000
END:DAYLIGHT
BEGIN:STANDARD
TZOFFSETFROM:-0600
TZOFFSETTO:-0700
TZNAME:MST
DTSTART:20261101T080000
END:STANDARD
BEGIN:DAYLIGHT
TZOFFSETFROM:-0700
TZOFFSETTO:-0600
TZNAME:MDT
DTSTART:20270314T090000
END:DAYLIGHT
BEGIN:STANDARD
TZOFFSETFROM:-0600
TZOFFSETTO:-0700
TZNAME:MST
DTSTART:20271107T080000
END:STANDARD
END:VTIMEZONE
BEGIN:VEVENT
DTSTART;TZID=America/Los_Angeles:20260505T180000
DTEND;TZID=America/Los_Angeles:20260505T210000
DTSTAMP:20260420T084611
CREATED:20260123T211403Z
LAST-MODIFIED:20260123T211403Z
UID:10002475-1778004000-1778014800@hesperiaparks.gov
SUMMARY:Pickleball Open Gym
DESCRIPTION:Ready to play some Pickleball?\nJoin us every Tuesday and Thursday for Open Gym Pickleball at the Power Play Center!\n Time: 6:00 – 9:00 p.m.\n Cost: Just $6.00 per person\n Location: 10770 ‘I’ Avenue\, Hesperia\, CA 92345\nIt’s the perfect mix of Sports\, Friends\, and Exercise! See you on the court!
URL:https://hesperiaparks.gov/events-posts/pickleball-open-gym/2026-05-05/
LOCATION:Power Play Center\, 10770 I Ave\, Hesperia\, CA\, 92345\, United States
CATEGORIES:Open Gym
ATTACH;FMTTYPE=image/jpeg:https://hesperiaparks.gov/wp-content/uploads/2026/01/pickleball-update.jpg
END:VEVENT
BEGIN:VEVENT
DTSTART;TZID=America/Los_Angeles:20260505T180000
DTEND;TZID=America/Los_Angeles:20260505T200000
DTSTAMP:20260420T084611
CREATED:20260218T224619Z
LAST-MODIFIED:20260218T224619Z
UID:10003886-1778004000-1778011200@hesperiaparks.gov
SUMMARY:Hesperia Boxing
DESCRIPTION:🥊Hesperia Activity League🥊\nYouth boxing in Hesperia\, California\n17508 Hercules Street. Hesperia\, CA 92345\nTuesdays and Thursdays 6pm-8pm\nAges 12-18 \nFor more information or questions visit https://www.instagram.com/hesperiaboxing/.
URL:https://hesperiaparks.gov/events-posts/hesperia-boxing/2026-05-05/
LOCATION:Epicenter\, 17508 Hercules Street Building C\, Hesperia\, CA\, 92345\, United States
CATEGORIES:Classes
ATTACH;FMTTYPE=image/png:https://hesperiaparks.gov/wp-content/uploads/2026/02/Hesperia-Boxing-.png
END:VEVENT
BEGIN:VEVENT
DTSTART;TZID=America/Los_Angeles:20260505T130000
DTEND;TZID=America/Los_Angeles:20260505T150000
DTSTAMP:20260420T084611
CREATED:20260123T225545Z
LAST-MODIFIED:20260226T232822Z
UID:10002983-1777986000-1777993200@hesperiaparks.gov
SUMMARY:Line Dancing
DESCRIPTION:If you’re a country music fan who loves to tap your toes and sing along\, why not take your love for the genre to the next level? Our Line Dancing class is the perfect place to start. Even if you’re a beginner with two left feet\, you’ll be able to learn new dances every week. You can register online or in-person at the Percy Bakker Community Center\, and walk-ins are always welcome. \nSchedule: Tuesdays from 1:00 to 3:00 p.m. \nFee: Register $30.00 per month — or — $10.00 per class (walk-in) \nLocation: Percy Bakker Community Center on 9333 ‘E’ Avenue. \nInstructor: Patti Nix.
URL:https://hesperiaparks.gov/events-posts/line-dancing/2026-05-05/
LOCATION:Percy Bakker Center\, 9333 E Avenue\, Hesperia\, CA\, 92345\, United States
CATEGORIES:Classes
ATTACH;FMTTYPE=image/jpeg:https://hesperiaparks.gov/wp-content/uploads/2026/01/DSC_0256-scaled.jpg
END:VEVENT
BEGIN:VEVENT
DTSTART;TZID=America/Los_Angeles:20260504T090000
DTEND;TZID=America/Los_Angeles:20260504T100000
DTSTAMP:20260420T084611
CREATED:20260123T230053Z
LAST-MODIFIED:20260123T230053Z
UID:10003258-1777885200-1777888800@hesperiaparks.gov
SUMMARY:Fitness & Fun
DESCRIPTION:Join the fun and effective fitness class at Percy Bakker Community Center! \nSuitable for adults over 18\, you’ll enjoy low-impact exercises\, line dances\, Latin moves\, waltzes\, step\, strength training\, and flexibility exercises tailored to your ability. The certified instructor is CPR and First Aid certified. \nClasses run on Mondays and Fridays from 9-10 am\, starting on the first Monday of each month. Fee is $21/month or $3/class. Register now to start your fitness journey!
URL:https://hesperiaparks.gov/events-posts/fitness-fun/2026-05-04/
LOCATION:Percy Bakker Center\, 9333 E Avenue\, Hesperia\, CA\, 92345\, United States
CATEGORIES:Classes
ATTACH;FMTTYPE=image/jpeg:https://hesperiaparks.gov/wp-content/uploads/2026/01/IMG_2977-scaled.jpg
END:VEVENT
BEGIN:VEVENT
DTSTART;TZID=America/Los_Angeles:20260502T100000
DTEND;TZID=America/Los_Angeles:20260502T140000
DTSTAMP:20260420T084611
CREATED:20260223T165136Z
LAST-MODIFIED:20260223T165136Z
UID:10004400-1777716000-1777730400@hesperiaparks.gov
SUMMARY:Hesperia Farmers Market
DESCRIPTION:🗓️Saturdays 10-2pm\n🤝Bringing Communities Together\n🌵 Local since 2021\n📍Hesperia Civic Plaza Park\n🌿Tag  #hesperiafarmersmarket \nFor more Information visit Instagram.
URL:https://hesperiaparks.gov/events-posts/hesperia-farmers-market/2026-05-02/
LOCATION:Hesperia Civic Plaza Park\, 15833 Smoke Tree St.\, Hesperia\, CA\, United States
CATEGORIES:Event
ATTACH;FMTTYPE=image/jpeg:https://hesperiaparks.gov/wp-content/uploads/2026/02/Hesperia-Farmers-Market.jpg
END:VEVENT
BEGIN:VEVENT
DTSTART;TZID=America/Los_Angeles:20260501T090000
DTEND;TZID=America/Los_Angeles:20260501T100000
DTSTAMP:20260420T084611
CREATED:20260123T230053Z
LAST-MODIFIED:20260123T230053Z
UID:10003257-1777626000-1777629600@hesperiaparks.gov
SUMMARY:Fitness & Fun
DESCRIPTION:Join the fun and effective fitness class at Percy Bakker Community Center! \nSuitable for adults over 18\, you’ll enjoy low-impact exercises\, line dances\, Latin moves\, waltzes\, step\, strength training\, and flexibility exercises tailored to your ability. The certified instructor is CPR and First Aid certified. \nClasses run on Mondays and Fridays from 9-10 am\, starting on the first Monday of each month. Fee is $21/month or $3/class. Register now to start your fitness journey!
URL:https://hesperiaparks.gov/events-posts/fitness-fun/2026-05-01/
LOCATION:Percy Bakker Center\, 9333 E Avenue\, Hesperia\, CA\, 92345\, United States
CATEGORIES:Classes
ATTACH;FMTTYPE=image/jpeg:https://hesperiaparks.gov/wp-content/uploads/2026/01/IMG_2977-scaled.jpg
END:VEVENT
BEGIN:VEVENT
DTSTART;VALUE=DATE:20260501
DTEND;VALUE=DATE:20260502
DTSTAMP:20260420T084611
CREATED:20260213T005143Z
LAST-MODIFIED:20260213T005143Z
UID:10003854-1777593600-1777679999@hesperiaparks.gov
SUMMARY:Pool Party Rentals Now Available
DESCRIPTION:Looking for the perfect way to celebrate a birthday\, host a family gathering\, or enjoy a private swim with friends? The Hesperia Recreation and Park District is excited to announce private pool rentals at Lime Street Pool\, available Saturdays and Sundays! \nEnjoy exclusive access to the pool during a 2-hour private rental\, perfect for creating unforgettable summer memories. Whether you’re planning a party or just want the pool all to yourself\, Lime Street Pool is the place to be. \nRental Rates (2 hours): \n\n$169 for Hesperia residents\n$195 for non-residents \n\nReservations open online starting May 1\, 2026. Spots are limited and expected to fill quickly\, so plan ahead and lock in your preferred date! \nDon’t miss your chance to dive into a private pool experience right here in Hesperia. Gather your crew\, bring the fun\, and make a splash at Lime Street Pool!
URL:https://hesperiaparks.gov/events-posts/pool-party-rentals-now-available/
LOCATION:Lime Street Park and Community Center\, 16292 Lime Street\, Hesperia\, CA\, 92345\, United States
CATEGORIES:Pool Activities
END:VEVENT
BEGIN:VEVENT
DTSTART;VALUE=DATE:20260501
DTEND;VALUE=DATE:20260502
DTSTAMP:20260420T084611
CREATED:20260213T002635Z
LAST-MODIFIED:20260213T004848Z
UID:10003850-1777593600-1777679999@hesperiaparks.gov
SUMMARY:Swim Lesson Registration Opens
DESCRIPTION:Make a Splash This Summer—Get Water Safe! \nDive into confidence and fun at Lime Street Park Pool! Swim lesson registration opens May 1\, 2026\, and we’re welcoming swimmers 6 months and up. \nLessons are offered in flexible two-week sessions\, with options on Monday/Wednesday or Tuesday/Thursday\, plus weekend classes on Saturdays or Sundays. Each lesson runs 50 minutes\, giving swimmers plenty of time to build skills and confidence in the water. \nLooking to take the next step? Desert Aquatics will also offer an Introduction to Swim Team course. This program requires a one-time swim assessment. \nSpots fill fast – jump in and make this a safe\, splash-tastic summer for the whole family!
URL:https://hesperiaparks.gov/events-posts/swim-lesson-registration-opens/
LOCATION:Lime Street Park and Community Center\, 16292 Lime Street\, Hesperia\, CA\, 92345\, United States
CATEGORIES:Registration
END:VEVENT
BEGIN:VEVENT
DTSTART;VALUE=DATE:20260501
DTEND;VALUE=DATE:20260502
DTSTAMP:20260420T084611
CREATED:20260213T002513Z
LAST-MODIFIED:20260213T002513Z
UID:10003849-1777593600-1777679999@hesperiaparks.gov
SUMMARY:Summer Kids Kamp Registration Opens
DESCRIPTION:More information to come. \nEvents\, dates\, and times are subject to change.
URL:https://hesperiaparks.gov/events-posts/summer-kids-kamp-registration-opens/
LOCATION:Lime Street Park and Community Center\, 16292 Lime Street\, Hesperia\, CA\, 92345\, United States
CATEGORIES:Registration
END:VEVENT
BEGIN:VEVENT
DTSTART;TZID=America/Los_Angeles:20260430T180000
DTEND;TZID=America/Los_Angeles:20260430T210000
DTSTAMP:20260420T084611
CREATED:20260123T211403Z
LAST-MODIFIED:20260123T211403Z
UID:10002474-1777572000-1777582800@hesperiaparks.gov
SUMMARY:Pickleball Open Gym
DESCRIPTION:Ready to play some Pickleball?\nJoin us every Tuesday and Thursday for Open Gym Pickleball at the Power Play Center!\n Time: 6:00 – 9:00 p.m.\n Cost: Just $6.00 per person\n Location: 10770 ‘I’ Avenue\, Hesperia\, CA 92345\nIt’s the perfect mix of Sports\, Friends\, and Exercise! See you on the court!
URL:https://hesperiaparks.gov/events-posts/pickleball-open-gym/2026-04-30/
LOCATION:Power Play Center\, 10770 I Ave\, Hesperia\, CA\, 92345\, United States
CATEGORIES:Open Gym
ATTACH;FMTTYPE=image/jpeg:https://hesperiaparks.gov/wp-content/uploads/2026/01/pickleball-update.jpg
END:VEVENT
BEGIN:VEVENT
DTSTART;TZID=America/Los_Angeles:20260430T180000
DTEND;TZID=America/Los_Angeles:20260430T200000
DTSTAMP:20260420T084611
CREATED:20260218T224619Z
LAST-MODIFIED:20260218T224619Z
UID:10003885-1777572000-1777579200@hesperiaparks.gov
SUMMARY:Hesperia Boxing
DESCRIPTION:🥊Hesperia Activity League🥊\nYouth boxing in Hesperia\, California\n17508 Hercules Street. Hesperia\, CA 92345\nTuesdays and Thursdays 6pm-8pm\nAges 12-18 \nFor more information or questions visit https://www.instagram.com/hesperiaboxing/.
URL:https://hesperiaparks.gov/events-posts/hesperia-boxing/2026-04-30/
LOCATION:Epicenter\, 17508 Hercules Street Building C\, Hesperia\, CA\, 92345\, United States
CATEGORIES:Classes
ATTACH;FMTTYPE=image/png:https://hesperiaparks.gov/wp-content/uploads/2026/02/Hesperia-Boxing-.png
END:VEVENT
BEGIN:VEVENT
DTSTART;TZID=America/Los_Angeles:20260429T100000
DTEND;TZID=America/Los_Angeles:20260429T110000
DTSTAMP:20260420T084611
CREATED:20260227T220037Z
LAST-MODIFIED:20260227T220037Z
UID:10004724-1777456800-1777460400@hesperiaparks.gov
SUMMARY:Tai Chi
DESCRIPTION:Improve Your Balance & Health with FREE Tai Chi Classes! \n\n\n\nLooking for a gentle way to boost your wellness? Join the San Bernardino County Department of Public Health for a free Tai Chi for Arthritis and Fall Prevention series!\nThis program is perfect for adults of all fitness levels—whether you’re managing arthritis or just want to improve your strength and stability through slow\, mindful movement.\n\n\n\n When: Wednesdays\, March 11th – April 29th\, 2026\n Time: 10:00 a.m. – 11:00 a.m.\n Where: Percy Bakker Community Center (9333 “E” Avenue\, Hesperia)\n Registration: In-person only\n\n\n\nCome see how gentle movement can make a big difference!
URL:https://hesperiaparks.gov/events-posts/tai-chi/2026-04-29/
LOCATION:Percy Bakker Center\, 9333 E Avenue\, Hesperia\, CA\, 92345\, United States
CATEGORIES:Classes
ATTACH;FMTTYPE=image/png:https://hesperiaparks.gov/wp-content/uploads/2026/02/Tai-Chi-flyer-2026.png
END:VEVENT
BEGIN:VEVENT
DTSTART;TZID=America/Los_Angeles:20260428T180000
DTEND;TZID=America/Los_Angeles:20260428T210000
DTSTAMP:20260420T084611
CREATED:20260123T211403Z
LAST-MODIFIED:20260123T211403Z
UID:10002473-1777399200-1777410000@hesperiaparks.gov
SUMMARY:Pickleball Open Gym
DESCRIPTION:Ready to play some Pickleball?\nJoin us every Tuesday and Thursday for Open Gym Pickleball at the Power Play Center!\n Time: 6:00 – 9:00 p.m.\n Cost: Just $6.00 per person\n Location: 10770 ‘I’ Avenue\, Hesperia\, CA 92345\nIt’s the perfect mix of Sports\, Friends\, and Exercise! See you on the court!
URL:https://hesperiaparks.gov/events-posts/pickleball-open-gym/2026-04-28/
LOCATION:Power Play Center\, 10770 I Ave\, Hesperia\, CA\, 92345\, United States
CATEGORIES:Open Gym
ATTACH;FMTTYPE=image/jpeg:https://hesperiaparks.gov/wp-content/uploads/2026/01/pickleball-update.jpg
END:VEVENT
BEGIN:VEVENT
DTSTART;TZID=America/Los_Angeles:20260428T180000
DTEND;TZID=America/Los_Angeles:20260428T200000
DTSTAMP:20260420T084611
CREATED:20260218T224619Z
LAST-MODIFIED:20260218T224619Z
UID:10003884-1777399200-1777406400@hesperiaparks.gov
SUMMARY:Hesperia Boxing
DESCRIPTION:🥊Hesperia Activity League🥊\nYouth boxing in Hesperia\, California\n17508 Hercules Street. Hesperia\, CA 92345\nTuesdays and Thursdays 6pm-8pm\nAges 12-18 \nFor more information or questions visit https://www.instagram.com/hesperiaboxing/.
URL:https://hesperiaparks.gov/events-posts/hesperia-boxing/2026-04-28/
LOCATION:Epicenter\, 17508 Hercules Street Building C\, Hesperia\, CA\, 92345\, United States
CATEGORIES:Classes
ATTACH;FMTTYPE=image/png:https://hesperiaparks.gov/wp-content/uploads/2026/02/Hesperia-Boxing-.png
END:VEVENT
BEGIN:VEVENT
DTSTART;TZID=America/Los_Angeles:20260428T130000
DTEND;TZID=America/Los_Angeles:20260428T150000
DTSTAMP:20260420T084611
CREATED:20260123T225545Z
LAST-MODIFIED:20260226T232822Z
UID:10002982-1777381200-1777388400@hesperiaparks.gov
SUMMARY:Line Dancing
DESCRIPTION:If you’re a country music fan who loves to tap your toes and sing along\, why not take your love for the genre to the next level? Our Line Dancing class is the perfect place to start. Even if you’re a beginner with two left feet\, you’ll be able to learn new dances every week. You can register online or in-person at the Percy Bakker Community Center\, and walk-ins are always welcome. \nSchedule: Tuesdays from 1:00 to 3:00 p.m. \nFee: Register $30.00 per month — or — $10.00 per class (walk-in) \nLocation: Percy Bakker Community Center on 9333 ‘E’ Avenue. \nInstructor: Patti Nix.
URL:https://hesperiaparks.gov/events-posts/line-dancing/2026-04-28/
LOCATION:Percy Bakker Center\, 9333 E Avenue\, Hesperia\, CA\, 92345\, United States
CATEGORIES:Classes
ATTACH;FMTTYPE=image/jpeg:https://hesperiaparks.gov/wp-content/uploads/2026/01/DSC_0256-scaled.jpg
END:VEVENT
BEGIN:VEVENT
DTSTART;TZID=America/Los_Angeles:20260427T090000
DTEND;TZID=America/Los_Angeles:20260427T100000
DTSTAMP:20260420T084611
CREATED:20260123T230053Z
LAST-MODIFIED:20260123T230053Z
UID:10003256-1777280400-1777284000@hesperiaparks.gov
SUMMARY:Fitness & Fun
DESCRIPTION:Join the fun and effective fitness class at Percy Bakker Community Center! \nSuitable for adults over 18\, you’ll enjoy low-impact exercises\, line dances\, Latin moves\, waltzes\, step\, strength training\, and flexibility exercises tailored to your ability. The certified instructor is CPR and First Aid certified. \nClasses run on Mondays and Fridays from 9-10 am\, starting on the first Monday of each month. Fee is $21/month or $3/class. Register now to start your fitness journey!
URL:https://hesperiaparks.gov/events-posts/fitness-fun/2026-04-27/
LOCATION:Percy Bakker Center\, 9333 E Avenue\, Hesperia\, CA\, 92345\, United States
CATEGORIES:Classes
ATTACH;FMTTYPE=image/jpeg:https://hesperiaparks.gov/wp-content/uploads/2026/01/IMG_2977-scaled.jpg
END:VEVENT
BEGIN:VEVENT
DTSTART;TZID=America/Los_Angeles:20260425T100000
DTEND;TZID=America/Los_Angeles:20260425T140000
DTSTAMP:20260420T084611
CREATED:20260223T165136Z
LAST-MODIFIED:20260223T165136Z
UID:10004399-1777111200-1777125600@hesperiaparks.gov
SUMMARY:Hesperia Farmers Market
DESCRIPTION:🗓️Saturdays 10-2pm\n🤝Bringing Communities Together\n🌵 Local since 2021\n📍Hesperia Civic Plaza Park\n🌿Tag  #hesperiafarmersmarket \nFor more Information visit Instagram.
URL:https://hesperiaparks.gov/events-posts/hesperia-farmers-market/2026-04-25/
LOCATION:Hesperia Civic Plaza Park\, 15833 Smoke Tree St.\, Hesperia\, CA\, United States
CATEGORIES:Event
ATTACH;FMTTYPE=image/jpeg:https://hesperiaparks.gov/wp-content/uploads/2026/02/Hesperia-Farmers-Market.jpg
END:VEVENT
BEGIN:VEVENT
DTSTART;TZID=America/Los_Angeles:20260424T090000
DTEND;TZID=America/Los_Angeles:20260424T100000
DTSTAMP:20260420T084611
CREATED:20260123T230053Z
LAST-MODIFIED:20260123T230053Z
UID:10003255-1777021200-1777024800@hesperiaparks.gov
SUMMARY:Fitness & Fun
DESCRIPTION:Join the fun and effective fitness class at Percy Bakker Community Center! \nSuitable for adults over 18\, you’ll enjoy low-impact exercises\, line dances\, Latin moves\, waltzes\, step\, strength training\, and flexibility exercises tailored to your ability. The certified instructor is CPR and First Aid certified. \nClasses run on Mondays and Fridays from 9-10 am\, starting on the first Monday of each month. Fee is $21/month or $3/class. Register now to start your fitness journey!
URL:https://hesperiaparks.gov/events-posts/fitness-fun/2026-04-24/
LOCATION:Percy Bakker Center\, 9333 E Avenue\, Hesperia\, CA\, 92345\, United States
CATEGORIES:Classes
ATTACH;FMTTYPE=image/jpeg:https://hesperiaparks.gov/wp-content/uploads/2026/01/IMG_2977-scaled.jpg
END:VEVENT
BEGIN:VEVENT
DTSTART;TZID=America/Los_Angeles:20260423T180000
DTEND;TZID=America/Los_Angeles:20260423T210000
DTSTAMP:20260420T084611
CREATED:20260123T211403Z
LAST-MODIFIED:20260123T211403Z
UID:10002472-1776967200-1776978000@hesperiaparks.gov
SUMMARY:Pickleball Open Gym
DESCRIPTION:Ready to play some Pickleball?\nJoin us every Tuesday and Thursday for Open Gym Pickleball at the Power Play Center!\n Time: 6:00 – 9:00 p.m.\n Cost: Just $6.00 per person\n Location: 10770 ‘I’ Avenue\, Hesperia\, CA 92345\nIt’s the perfect mix of Sports\, Friends\, and Exercise! See you on the court!
URL:https://hesperiaparks.gov/events-posts/pickleball-open-gym/2026-04-23/
LOCATION:Power Play Center\, 10770 I Ave\, Hesperia\, CA\, 92345\, United States
CATEGORIES:Open Gym
ATTACH;FMTTYPE=image/jpeg:https://hesperiaparks.gov/wp-content/uploads/2026/01/pickleball-update.jpg
END:VEVENT
BEGIN:VEVENT
DTSTART;TZID=America/Los_Angeles:20260423T180000
DTEND;TZID=America/Los_Angeles:20260423T200000
DTSTAMP:20260420T084611
CREATED:20260218T224619Z
LAST-MODIFIED:20260218T224619Z
UID:10003883-1776967200-1776974400@hesperiaparks.gov
SUMMARY:Hesperia Boxing
DESCRIPTION:🥊Hesperia Activity League🥊\nYouth boxing in Hesperia\, California\n17508 Hercules Street. Hesperia\, CA 92345\nTuesdays and Thursdays 6pm-8pm\nAges 12-18 \nFor more information or questions visit https://www.instagram.com/hesperiaboxing/.
URL:https://hesperiaparks.gov/events-posts/hesperia-boxing/2026-04-23/
LOCATION:Epicenter\, 17508 Hercules Street Building C\, Hesperia\, CA\, 92345\, United States
CATEGORIES:Classes
ATTACH;FMTTYPE=image/png:https://hesperiaparks.gov/wp-content/uploads/2026/02/Hesperia-Boxing-.png
END:VEVENT
BEGIN:VEVENT
DTSTART;TZID=America/Los_Angeles:20260423T173000
DTEND;TZID=America/Los_Angeles:20260423T193000
DTSTAMP:20260420T084611
CREATED:20241211T012758Z
LAST-MODIFIED:20260123T001741Z
UID:10002387-1776965400-1776972600@hesperiaparks.gov
SUMMARY:Hesperia Area Recreation District Foundation Meeting
DESCRIPTION:Meeting of the Hesperia Area Recreation District Foundation Meeting.
URL:https://hesperiaparks.gov/events-posts/hesperia-area-recreation-district-foundation-meeting-2-2-2/2026-04-23/
LOCATION:Lime Street Park and Community Center\, 16292 Lime Street\, Hesperia\, CA\, 92345\, United States
CATEGORIES:Meeting
ATTACH;FMTTYPE=image/png:https://hesperiaparks.gov/wp-content/uploads/2024/05/Small.png
ORGANIZER;CN="Hesperia Recreation and Park District":MAILTO:info@hesperiaparks.com
END:VEVENT
BEGIN:VEVENT
DTSTART;TZID=America/Denver:20260423T170000
DTEND;TZID=America/Denver:20260423T173000
DTSTAMP:20260420T084611
CREATED:20260226T171835Z
LAST-MODIFIED:20260226T172035Z
UID:10004653-1776963600-1776965400@hesperiaparks.gov
SUMMARY:Event Committee Meeting
DESCRIPTION:Meeting for the Event Committee.
URL:https://hesperiaparks.gov/events-posts/event-committee-meeting-3-2-2-3/2026-04-23/
LOCATION:Lime Street Park and Community Center\, 16292 Lime Street\, Hesperia\, CA\, 92345\, United States
CATEGORIES:Event,Meeting
ATTACH;FMTTYPE=image/png:https://hesperiaparks.gov/wp-content/uploads/2024/05/Small.png
ORGANIZER;CN="Hesperia Recreation and Park District":MAILTO:info@hesperiaparks.com
END:VEVENT
BEGIN:VEVENT
DTSTART;TZID=America/Denver:20260423T170000
DTEND;TZID=America/Denver:20260423T173000
DTSTAMP:20260420T084611
CREATED:20260226T171651Z
LAST-MODIFIED:20260226T171736Z
UID:10002263-1776963600-1776965400@hesperiaparks.gov
SUMMARY:Event Committee Meeting
DESCRIPTION:Meeting for the Event Committee.
URL:https://hesperiaparks.gov/events-posts/event-committee-meeting-3-2-2-2/2026-04-23/
LOCATION:Lime Street Park and Community Center\, 16292 Lime Street\, Hesperia\, CA\, 92345\, United States
CATEGORIES:Event,Meeting
ATTACH;FMTTYPE=image/png:https://hesperiaparks.gov/wp-content/uploads/2024/05/Small.png
ORGANIZER;CN="Hesperia Recreation and Park District":MAILTO:info@hesperiaparks.com
END:VEVENT
BEGIN:VEVENT
DTSTART;TZID=America/Denver:20260422T180000
DTEND;TZID=America/Denver:20260422T200000
DTSTAMP:20260420T084611
CREATED:20241211T205755Z
LAST-MODIFIED:20251121T200331Z
UID:10001552-1776880800-1776888000@hesperiaparks.gov
SUMMARY:Board of Directors Regular Meeting
DESCRIPTION:Regular meeting of the Board of Directors.
URL:https://hesperiaparks.gov/events-posts/board-of-directors-regular-meeting-14/2026-04-22/
LOCATION:Lime Street Park and Community Center\, 16292 Lime Street\, Hesperia\, CA\, 92345\, United States
CATEGORIES:Meeting
ATTACH;FMTTYPE=image/png:https://hesperiaparks.gov/wp-content/uploads/2024/05/Small.png
ORGANIZER;CN="Hesperia Recreation and Park District":MAILTO:info@hesperiaparks.com
END:VEVENT
BEGIN:VEVENT
DTSTART;TZID=America/Los_Angeles:20260422T100000
DTEND;TZID=America/Los_Angeles:20260422T110000
DTSTAMP:20260420T084611
CREATED:20260227T220037Z
LAST-MODIFIED:20260227T220037Z
UID:10004723-1776852000-1776855600@hesperiaparks.gov
SUMMARY:Tai Chi
DESCRIPTION:Improve Your Balance & Health with FREE Tai Chi Classes! \n\n\n\nLooking for a gentle way to boost your wellness? Join the San Bernardino County Department of Public Health for a free Tai Chi for Arthritis and Fall Prevention series!\nThis program is perfect for adults of all fitness levels—whether you’re managing arthritis or just want to improve your strength and stability through slow\, mindful movement.\n\n\n\n When: Wednesdays\, March 11th – April 29th\, 2026\n Time: 10:00 a.m. – 11:00 a.m.\n Where: Percy Bakker Community Center (9333 “E” Avenue\, Hesperia)\n Registration: In-person only\n\n\n\nCome see how gentle movement can make a big difference!
URL:https://hesperiaparks.gov/events-posts/tai-chi/2026-04-22/
LOCATION:Percy Bakker Center\, 9333 E Avenue\, Hesperia\, CA\, 92345\, United States
CATEGORIES:Classes
ATTACH;FMTTYPE=image/png:https://hesperiaparks.gov/wp-content/uploads/2026/02/Tai-Chi-flyer-2026.png
END:VEVENT
BEGIN:VEVENT
DTSTART;TZID=America/Los_Angeles:20260421T180000
DTEND;TZID=America/Los_Angeles:20260421T210000
DTSTAMP:20260420T084611
CREATED:20260123T211403Z
LAST-MODIFIED:20260123T211403Z
UID:10002471-1776794400-1776805200@hesperiaparks.gov
SUMMARY:Pickleball Open Gym
DESCRIPTION:Ready to play some Pickleball?\nJoin us every Tuesday and Thursday for Open Gym Pickleball at the Power Play Center!\n Time: 6:00 – 9:00 p.m.\n Cost: Just $6.00 per person\n Location: 10770 ‘I’ Avenue\, Hesperia\, CA 92345\nIt’s the perfect mix of Sports\, Friends\, and Exercise! See you on the court!
URL:https://hesperiaparks.gov/events-posts/pickleball-open-gym/2026-04-21/
LOCATION:Power Play Center\, 10770 I Ave\, Hesperia\, CA\, 92345\, United States
CATEGORIES:Open Gym
ATTACH;FMTTYPE=image/jpeg:https://hesperiaparks.gov/wp-content/uploads/2026/01/pickleball-update.jpg
END:VEVENT
BEGIN:VEVENT
DTSTART;TZID=America/Los_Angeles:20260421T180000
DTEND;TZID=America/Los_Angeles:20260421T200000
DTSTAMP:20260420T084611
CREATED:20260218T224619Z
LAST-MODIFIED:20260218T224619Z
UID:10003882-1776794400-1776801600@hesperiaparks.gov
SUMMARY:Hesperia Boxing
DESCRIPTION:🥊Hesperia Activity League🥊\nYouth boxing in Hesperia\, California\n17508 Hercules Street. Hesperia\, CA 92345\nTuesdays and Thursdays 6pm-8pm\nAges 12-18 \nFor more information or questions visit https://www.instagram.com/hesperiaboxing/.
URL:https://hesperiaparks.gov/events-posts/hesperia-boxing/2026-04-21/
LOCATION:Epicenter\, 17508 Hercules Street Building C\, Hesperia\, CA\, 92345\, United States
CATEGORIES:Classes
ATTACH;FMTTYPE=image/png:https://hesperiaparks.gov/wp-content/uploads/2026/02/Hesperia-Boxing-.png
END:VEVENT
BEGIN:VEVENT
DTSTART;TZID=America/Los_Angeles:20260421T130000
DTEND;TZID=America/Los_Angeles:20260421T150000
DTSTAMP:20260420T084611
CREATED:20260123T225545Z
LAST-MODIFIED:20260226T232822Z
UID:10002981-1776776400-1776783600@hesperiaparks.gov
SUMMARY:Line Dancing
DESCRIPTION:If you’re a country music fan who loves to tap your toes and sing along\, why not take your love for the genre to the next level? Our Line Dancing class is the perfect place to start. Even if you’re a beginner with two left feet\, you’ll be able to learn new dances every week. You can register online or in-person at the Percy Bakker Community Center\, and walk-ins are always welcome. \nSchedule: Tuesdays from 1:00 to 3:00 p.m. \nFee: Register $30.00 per month — or — $10.00 per class (walk-in) \nLocation: Percy Bakker Community Center on 9333 ‘E’ Avenue. \nInstructor: Patti Nix.
URL:https://hesperiaparks.gov/events-posts/line-dancing/2026-04-21/
LOCATION:Percy Bakker Center\, 9333 E Avenue\, Hesperia\, CA\, 92345\, United States
CATEGORIES:Classes
ATTACH;FMTTYPE=image/jpeg:https://hesperiaparks.gov/wp-content/uploads/2026/01/DSC_0256-scaled.jpg
END:VEVENT
BEGIN:VEVENT
DTSTART;TZID=America/Los_Angeles:20260420T090000
DTEND;TZID=America/Los_Angeles:20260420T100000
DTSTAMP:20260420T084611
CREATED:20260123T230053Z
LAST-MODIFIED:20260123T230053Z
UID:10003254-1776675600-1776679200@hesperiaparks.gov
SUMMARY:Fitness & Fun
DESCRIPTION:Join the fun and effective fitness class at Percy Bakker Community Center! \nSuitable for adults over 18\, you’ll enjoy low-impact exercises\, line dances\, Latin moves\, waltzes\, step\, strength training\, and flexibility exercises tailored to your ability. The certified instructor is CPR and First Aid certified. \nClasses run on Mondays and Fridays from 9-10 am\, starting on the first Monday of each month. Fee is $21/month or $3/class. Register now to start your fitness journey!
URL:https://hesperiaparks.gov/events-posts/fitness-fun/2026-04-20/
LOCATION:Percy Bakker Center\, 9333 E Avenue\, Hesperia\, CA\, 92345\, United States
CATEGORIES:Classes
ATTACH;FMTTYPE=image/jpeg:https://hesperiaparks.gov/wp-content/uploads/2026/01/IMG_2977-scaled.jpg
END:VEVENT
BEGIN:VEVENT
DTSTART;TZID=America/Los_Angeles:20260418T100000
DTEND;TZID=America/Los_Angeles:20260418T140000
DTSTAMP:20260420T084611
CREATED:20260223T165136Z
LAST-MODIFIED:20260223T165136Z
UID:10004398-1776506400-1776520800@hesperiaparks.gov
SUMMARY:Hesperia Farmers Market
DESCRIPTION:🗓️Saturdays 10-2pm\n🤝Bringing Communities Together\n🌵 Local since 2021\n📍Hesperia Civic Plaza Park\n🌿Tag  #hesperiafarmersmarket \nFor more Information visit Instagram.
URL:https://hesperiaparks.gov/events-posts/hesperia-farmers-market/2026-04-18/
LOCATION:Hesperia Civic Plaza Park\, 15833 Smoke Tree St.\, Hesperia\, CA\, United States
CATEGORIES:Event
ATTACH;FMTTYPE=image/jpeg:https://hesperiaparks.gov/wp-content/uploads/2026/02/Hesperia-Farmers-Market.jpg
END:VEVENT
END:VCALENDAR